BEGIN:VCALENDAR
VERSION:2.0
PRODID:-//MAKKA Szabadidősport Egyesület - ECPv6.15.20//NONSGML v1.0//EN
CALSCALE:GREGORIAN
METHOD:PUBLISH
X-WR-CALNAME:MAKKA Szabadidősport Egyesület
X-ORIGINAL-URL:https://makka.sport.hu
X-WR-CALDESC:Események MAKKA Szabadidősport Egyesület
REFRESH-INTERVAL;VALUE=DURATION:PT1H
X-Robots-Tag:noindex
X-PUBLISHED-TTL:PT1H
BEGIN:VTIMEZONE
TZID:Europe/Paris
BEGIN:DAYLIGHT
TZOFFSETFROM:+0100
TZOFFSETTO:+0200
TZNAME:CEST
DTSTART:20220327T010000
END:DAYLIGHT
BEGIN:STANDARD
TZOFFSETFROM:+0200
TZOFFSETTO:+0100
TZNAME:CET
DTSTART:20221030T010000
END:STANDARD
BEGIN:DAYLIGHT
TZOFFSETFROM:+0100
TZOFFSETTO:+0200
TZNAME:CEST
DTSTART:20230326T010000
END:DAYLIGHT
BEGIN:STANDARD
TZOFFSETFROM:+0200
TZOFFSETTO:+0100
TZNAME:CET
DTSTART:20231029T010000
END:STANDARD
BEGIN:DAYLIGHT
TZOFFSETFROM:+0100
TZOFFSETTO:+0200
TZNAME:CEST
DTSTART:20240331T010000
END:DAYLIGHT
BEGIN:STANDARD
TZOFFSETFROM:+0200
TZOFFSETTO:+0100
TZNAME:CET
DTSTART:20241027T010000
END:STANDARD
END:VTIMEZONE
BEGIN:VEVENT
DTSTART;TZID=Europe/Paris:20230216T090000
DTEND;TZID=Europe/Paris:20230216T094500
DTSTAMP:20260424T083627
CREATED:20230206T200643Z
LAST-MODIFIED:20230208T213405Z
UID:1487-1676538000-1676540700@makka.sport.hu
SUMMARY:Szabadtéri torna
DESCRIPTION:Ezen a tornán bárki részt vehet\, tudásszinttől függetlenül\, előképzettséget nem igényel. Ilyenkor a szabadban mozgunk\, többnyire gyaloglás közben végzünk súlyzós\, saját súlyos és egyensúly gyakorlatokat. A Klubházban találkozunk\, itt átöltözhetsz illetve itt hagyhatod azt amire nincs mozgás közben szükséged. Innen indulunk ki a mezőre. Az órát esős időben a teremben tartjuk meg. Várunk\, gyere! \nRészvételi dj: 2000.-/fő/alkalom (egyesületi tagoknak 13 pont)
URL:https://makka.sport.hu/event/szabadteri-torna/
LOCATION:MAKKA Klubház\, 517. utca 25.\, Budapest\, Budapest\, 1173\, Magyarország
CATEGORIES:Outdoor
ATTACH;FMTTYPE=image/jpeg:https://makka.sport.hu/wp-content/uploads/2023/02/21-e1675717403126.jpg
ORGANIZER;CN="MAKKA Szabadid%C5%91sport Egyes%C3%BClet":MAILTO:klub@makka.sport.hu
END:VEVENT
BEGIN:VEVENT
DTSTART;TZID=Europe/Paris:20230216T170000
DTEND;TZID=Europe/Paris:20230216T190000
DTSTAMP:20260424T083627
CREATED:20230206T203713Z
LAST-MODIFIED:20230208T213331Z
UID:1502-1676566800-1676574000@makka.sport.hu
SUMMARY:Bowling
DESCRIPTION:Időpont: 2023. febuár 16. csütörtök 17.00-19.00\nHelyszín: Acapulco Bowling és Étterem\, Budapest X. kerület Tavas u. 1.\nMegközelíthető: Rákoskeresztúr Központból 98\, 202E autóbuszokkal vagy Jászberényi útról\, 525. térről 68 autóbusszal.\n\nIsmét 4 fős csapatok nevezését várom\, csapatonként legalább 1 fő egyesületi tag szükséges! A verseny végével csapat\, női és férfi egyéni bajnokokat hirdetünk.\nA részvételi díj 4000.-/30 pont (Bocsánat\, emelnünk kellett) \nHa nincs csapatod\, de szívesen jönnél\, ne aggódj\, jelentkezz bátran\, majd szervezünk köréd csapatot! \nNevezési határidő: február 10. \nBetöltés…
URL:https://makka.sport.hu/event/bowling/
LOCATION:Acapulco Bowling Club\, Tavas utca\, Budapest\, 1106\, Magyarország
CATEGORIES:Beltéri rendezvény
ATTACH;FMTTYPE=image/jpeg:https://makka.sport.hu/wp-content/uploads/2022/03/bowling1-e1647713787239.jpg
ORGANIZER;CN="MAKKA Szabadid%C5%91sport Egyes%C3%BClet":MAILTO:klub@makka.sport.hu
END:VEVENT
END:VCALENDAR