BEGIN:VCALENDAR
VERSION:2.0
PRODID:-//MAKKA Szabadidősport Egyesület - ECPv6.15.20//NONSGML v1.0//EN
CALSCALE:GREGORIAN
METHOD:PUBLISH
X-WR-CALNAME:MAKKA Szabadidősport Egyesület
X-ORIGINAL-URL:https://makka.sport.hu
X-WR-CALDESC:Események MAKKA Szabadidősport Egyesület
REFRESH-INTERVAL;VALUE=DURATION:PT1H
X-Robots-Tag:noindex
X-PUBLISHED-TTL:PT1H
BEGIN:VTIMEZONE
TZID:Europe/Paris
BEGIN:DAYLIGHT
TZOFFSETFROM:+0100
TZOFFSETTO:+0200
TZNAME:CEST
DTSTART:20220327T010000
END:DAYLIGHT
BEGIN:STANDARD
TZOFFSETFROM:+0200
TZOFFSETTO:+0100
TZNAME:CET
DTSTART:20221030T010000
END:STANDARD
BEGIN:DAYLIGHT
TZOFFSETFROM:+0100
TZOFFSETTO:+0200
TZNAME:CEST
DTSTART:20230326T010000
END:DAYLIGHT
BEGIN:STANDARD
TZOFFSETFROM:+0200
TZOFFSETTO:+0100
TZNAME:CET
DTSTART:20231029T010000
END:STANDARD
BEGIN:DAYLIGHT
TZOFFSETFROM:+0100
TZOFFSETTO:+0200
TZNAME:CEST
DTSTART:20240331T010000
END:DAYLIGHT
BEGIN:STANDARD
TZOFFSETFROM:+0200
TZOFFSETTO:+0100
TZNAME:CET
DTSTART:20241027T010000
END:STANDARD
END:VTIMEZONE
BEGIN:VEVENT
DTSTART;TZID=Europe/Paris:20230224T090000
DTEND;TZID=Europe/Paris:20230224T143000
DTSTAMP:20260424T083627
CREATED:20230206T202816Z
LAST-MODIFIED:20230220T192029Z
UID:1496-1677229200-1677249000@makka.sport.hu
SUMMARY:Nordic walking túra - Róka-hegy\, Omszki-tó
DESCRIPTION:Időpont: február 24. péntek\nTalálkozunk Rákos vasútállomáson\, utazás a 9:05-ös vonattal Aquincum mh-ig\, onnan HÉV-vel \nA túra hossza kb 3\,5 km a Róka-hegyen\, az Omszki-tó talán 1-1\,5 km. A Róka-hegyen a szintkülönbség 120 méter\, rövid szakaszokon emelekdők\, köztük vízszintes terület (bányaudvarok). Az emelkedők legtöbbször lépcsősek. Csodálatos környezet\, remekül \n \nkiépített útvonal\, jó szívvel ajánlom. \nTúracipő kötelező\, mert a talaj ma csúszós \, sáros volt helyenként.Ez túracipőben és botokkal nem gond\, de városi edzőcipőben nem teljesíthető. \nRészvételi díj 2000.-Ft (egyesületi tagoknak 15 pont) \n  \n  \nBetöltés… \n  \n 
URL:https://makka.sport.hu/event/nordic-walking-tura-roka-hegy-omszki-to/
LOCATION:Budapest
CATEGORIES:Kirándulás
ATTACH;FMTTYPE=image/jpeg:https://makka.sport.hu/wp-content/uploads/2023/02/20230114_134815-scaled-e1675718856968.jpg
END:VEVENT
END:VCALENDAR