BEGIN:VCALENDAR
VERSION:2.0
PRODID:-//MAKKA Szabadidősport Egyesület - ECPv6.15.20//NONSGML v1.0//EN
CALSCALE:GREGORIAN
METHOD:PUBLISH
X-WR-CALNAME:MAKKA Szabadidősport Egyesület
X-ORIGINAL-URL:https://makka.sport.hu
X-WR-CALDESC:Események MAKKA Szabadidősport Egyesület
REFRESH-INTERVAL;VALUE=DURATION:PT1H
X-Robots-Tag:noindex
X-PUBLISHED-TTL:PT1H
BEGIN:VTIMEZONE
TZID:Europe/Paris
BEGIN:DAYLIGHT
TZOFFSETFROM:+0100
TZOFFSETTO:+0200
TZNAME:CEST
DTSTART:20220327T010000
END:DAYLIGHT
BEGIN:STANDARD
TZOFFSETFROM:+0200
TZOFFSETTO:+0100
TZNAME:CET
DTSTART:20221030T010000
END:STANDARD
BEGIN:DAYLIGHT
TZOFFSETFROM:+0100
TZOFFSETTO:+0200
TZNAME:CEST
DTSTART:20230326T010000
END:DAYLIGHT
BEGIN:STANDARD
TZOFFSETFROM:+0200
TZOFFSETTO:+0100
TZNAME:CET
DTSTART:20231029T010000
END:STANDARD
BEGIN:DAYLIGHT
TZOFFSETFROM:+0100
TZOFFSETTO:+0200
TZNAME:CEST
DTSTART:20240331T010000
END:DAYLIGHT
BEGIN:STANDARD
TZOFFSETFROM:+0200
TZOFFSETTO:+0100
TZNAME:CET
DTSTART:20241027T010000
END:STANDARD
END:VTIMEZONE
BEGIN:VEVENT
DTSTART;TZID=Europe/Paris:20230310T160000
DTEND;TZID=Europe/Paris:20230310T223000
DTSTAMP:20260424T070408
CREATED:20230208T211852Z
LAST-MODIFIED:20230306T064546Z
UID:1506-1678464000-1678487400@makka.sport.hu
SUMMARY:Nőnapi mulatság Monoron
DESCRIPTION:Ahogy novemberben\, ismét a monori Strázsahegyre hívlak Benneteket\, hogy egy picit mulassunk\, jól érezzük magunkat! \nIsmét különjárati busszal utazunk\, ahol lehetőség szerint kerületen belül illetve az útvonal mentén a lakhelyéhez legközelebb veszünk fel és ugyanide visszük haza. \nIndulás: 16 órakor a Klubháztól \nRészvételi díj: 9500.-Ft/fő \, mely tartalmazza \n\naz utazás költségét a XVII. kerületből és vissza\nkorlátlan italfogyasztást (bor\, üdítő\, kávé)\nvacsorát: rántott sertésszelet\, párizsi csirkemell fűszeres burgonyával\n\nSüteményt hozni lehet de nem kötelező! \nBetöltés…
URL:https://makka.sport.hu/event/nonapi-mulatsag-monoron/
LOCATION:Monor Strázsahegy\, Petrovai Pince\, Mézes sor\, Monor\, 2200\, Magyarország
CATEGORIES:Buli,Kirándulás
ATTACH;FMTTYPE=image/jpeg:https://makka.sport.hu/wp-content/uploads/2023/02/Nonapi-Monor-940-×-470-keppont-masolata.jpg
ORGANIZER;CN="MAKKA Szabadid%C5%91sport Egyes%C3%BClet":MAILTO:klub@makka.sport.hu
END:VEVENT
END:VCALENDAR