BEGIN:VCALENDAR
VERSION:2.0
PRODID:-//MAKKA Szabadidősport Egyesület - ECPv6.15.20//NONSGML v1.0//EN
CALSCALE:GREGORIAN
METHOD:PUBLISH
X-ORIGINAL-URL:https://makka.sport.hu
X-WR-CALDESC:Események MAKKA Szabadidősport Egyesület
REFRESH-INTERVAL;VALUE=DURATION:PT1H
X-Robots-Tag:noindex
X-PUBLISHED-TTL:PT1H
BEGIN:VTIMEZONE
TZID:Europe/Paris
BEGIN:DAYLIGHT
TZOFFSETFROM:+0100
TZOFFSETTO:+0200
TZNAME:CEST
DTSTART:20230326T010000
END:DAYLIGHT
BEGIN:STANDARD
TZOFFSETFROM:+0200
TZOFFSETTO:+0100
TZNAME:CET
DTSTART:20231029T010000
END:STANDARD
BEGIN:DAYLIGHT
TZOFFSETFROM:+0100
TZOFFSETTO:+0200
TZNAME:CEST
DTSTART:20240331T010000
END:DAYLIGHT
BEGIN:STANDARD
TZOFFSETFROM:+0200
TZOFFSETTO:+0100
TZNAME:CET
DTSTART:20241027T010000
END:STANDARD
BEGIN:DAYLIGHT
TZOFFSETFROM:+0100
TZOFFSETTO:+0200
TZNAME:CEST
DTSTART:20250330T010000
END:DAYLIGHT
BEGIN:STANDARD
TZOFFSETFROM:+0200
TZOFFSETTO:+0100
TZNAME:CET
DTSTART:20251026T010000
END:STANDARD
END:VTIMEZONE
BEGIN:VEVENT
DTSTART;VALUE=DATE:20240405
DTEND;VALUE=DATE:20240406
DTSTAMP:20260423T112613
CREATED:20240317T220326Z
LAST-MODIFIED:20240318T070659Z
UID:1737-1712275200-1712361599@makka.sport.hu
SUMMARY:Medvehagyma túra - Bakonybél
DESCRIPTION:Időpont: 2024.04.05. \nTervezett program: \n\nindulás 7 órakor a Klubháztól\, utazás különjárati autóbusszal\nA program: túra a Hubertlaki (Gyilkos)-tóhoz (kb 7 km oda vissza)\nB program: Szent Mauriciusz Monostor megtekintése\, Szentkút és Kálvária\nebéd – A- menü: Mustáros csirkeragu\, párolt jázmin rizs\nB- menü: Sertéspaprikás\, galuska\nC-menü: Darázstészta\, barack lekvár\nmedvehagyma gyűjtés\, fakultatív program Bakonybélen (Pannon Csillagda\, Bakonyi Erdők Háza\, Erzsébet kilátó\,  Szent Gellért téri harangjáték és szobor\, Bakonybéli Tájház)\nvárható hazaérkezés 19-20 óra körül\n\nRészvételi díj: 12000.-Ft\, monostor látogatóknak 15000 Ft\, külsősöknek 13000.-/16000.- \nJelentkezni a részvételi díj befizetésével lehet\, a fizetés módja\n– bankkártyás fizetés az EgyesületOnline felületén\n– banki átutalás 16200175-11535166\n– készpénzes befizetés a Klubházban \nBetöltés…
URL:https://makka.sport.hu/event/medvehagyma-tura-bakonybel/
LOCATION:Budapest
CATEGORIES:Kirándulás
ATTACH;FMTTYPE=image/jpeg:https://makka.sport.hu/wp-content/uploads/2024/03/Bakonybel-2.jpg
ORGANIZER;CN="MAKKA Szabadid%C5%91sport Egyes%C3%BClet":MAILTO:klub@makka.sport.hu
END:VEVENT
END:VCALENDAR