BEGIN:VCALENDAR
VERSION:2.0
PRODID:-//MAKKA Szabadidősport Egyesület - ECPv6.15.20//NONSGML v1.0//EN
CALSCALE:GREGORIAN
METHOD:PUBLISH
X-ORIGINAL-URL:https://makka.sport.hu
X-WR-CALDESC:Események MAKKA Szabadidősport Egyesület
REFRESH-INTERVAL;VALUE=DURATION:PT1H
X-Robots-Tag:noindex
X-PUBLISHED-TTL:PT1H
BEGIN:VTIMEZONE
TZID:Europe/Paris
BEGIN:DAYLIGHT
TZOFFSETFROM:+0100
TZOFFSETTO:+0200
TZNAME:CEST
DTSTART:20230326T010000
END:DAYLIGHT
BEGIN:STANDARD
TZOFFSETFROM:+0200
TZOFFSETTO:+0100
TZNAME:CET
DTSTART:20231029T010000
END:STANDARD
BEGIN:DAYLIGHT
TZOFFSETFROM:+0100
TZOFFSETTO:+0200
TZNAME:CEST
DTSTART:20240331T010000
END:DAYLIGHT
BEGIN:STANDARD
TZOFFSETFROM:+0200
TZOFFSETTO:+0100
TZNAME:CET
DTSTART:20241027T010000
END:STANDARD
BEGIN:DAYLIGHT
TZOFFSETFROM:+0100
TZOFFSETTO:+0200
TZNAME:CEST
DTSTART:20250330T010000
END:DAYLIGHT
BEGIN:STANDARD
TZOFFSETFROM:+0200
TZOFFSETTO:+0100
TZNAME:CET
DTSTART:20251026T010000
END:STANDARD
END:VTIMEZONE
BEGIN:VEVENT
DTSTART;VALUE=DATE:20240426
DTEND;VALUE=DATE:20240427
DTSTAMP:20260423T112612
CREATED:20240404T062129Z
LAST-MODIFIED:20240404T062155Z
UID:1747-1714089600-1714175999@makka.sport.hu
SUMMARY:Kecskemét
DESCRIPTION:Indulás 8 ó 06-kor Kőbánya-Kispestről  Napfény vonattal érkezés 9 ó 10\nVasutállomásról a központ felé haladva kivülről a Katona József muzeum és a Leskowsky Hangszergyüjtemény  és Tudomány-technika háza megnézése\n10-re megyünk a Cifra palotához\, ide bemennénk kb. 1 órás program\nVárosnézés (Ráday muzeum\, Városháza\,  szobrok – mikrokozmosz\, Kossuth\, Luca\, Tapintható – Szent Miklós templom\, Nagytemplom\, emlékkő\, szentháromság oszlop\,Szent háromság plébánia\,  Katona József szinház\, emlékház\, fotomúzeum\, Psalmus Hungaricus emlékmü\, \,cimerdomb   kb. 1 óra)\nebéd ½ 1 körül – Három gúnár étterem\, svédasztalos ebéd (3300.-Ft)\nArborétum   itt 1700-as évekből származó kápolna\, szoborsétány\, barlangmásolat és kilátó is van\nVonat vissza a Kökire: 15\,48  érk 16\,51 vagy 16\,48 érk 17\,51\,  vagy 17\,48 érk 18\,51\n\nFelmerülő költségek a program függvényében:\nRészvételi díj 1100.-Ft/fő\, külsősöknek 2000.-Ft/fő\nvonatjegy vásárlása egyénileg(IC kocsi is van meg másik is)\nCifra palota  – nyugdijas jegy 900 Ft 70 felett ingyenes\,\nebéd 3300 Ft\nArborétum –  400 Ft/fő vezetéssel\n\n\nBetöltés…
URL:https://makka.sport.hu/event/kecskemet/
LOCATION:Kecskemét
CATEGORIES:Kirándulás,Outdoor
ATTACH;FMTTYPE=image/jpeg:https://makka.sport.hu/wp-content/uploads/2024/04/kecskemet.jpg
END:VEVENT
END:VCALENDAR