BEGIN:VCALENDAR
VERSION:2.0
PRODID:-//MAKKA Szabadidősport Egyesület - ECPv6.15.20//NONSGML v1.0//EN
CALSCALE:GREGORIAN
METHOD:PUBLISH
X-WR-CALNAME:MAKKA Szabadidősport Egyesület
X-ORIGINAL-URL:https://makka.sport.hu
X-WR-CALDESC:Események MAKKA Szabadidősport Egyesület
REFRESH-INTERVAL;VALUE=DURATION:PT1H
X-Robots-Tag:noindex
X-PUBLISHED-TTL:PT1H
BEGIN:VTIMEZONE
TZID:Europe/Paris
BEGIN:DAYLIGHT
TZOFFSETFROM:+0100
TZOFFSETTO:+0200
TZNAME:CEST
DTSTART:20250330T010000
END:DAYLIGHT
BEGIN:STANDARD
TZOFFSETFROM:+0200
TZOFFSETTO:+0100
TZNAME:CET
DTSTART:20251026T010000
END:STANDARD
BEGIN:DAYLIGHT
TZOFFSETFROM:+0100
TZOFFSETTO:+0200
TZNAME:CEST
DTSTART:20260329T010000
END:DAYLIGHT
BEGIN:STANDARD
TZOFFSETFROM:+0200
TZOFFSETTO:+0100
TZNAME:CET
DTSTART:20261025T010000
END:STANDARD
BEGIN:DAYLIGHT
TZOFFSETFROM:+0100
TZOFFSETTO:+0200
TZNAME:CEST
DTSTART:20270328T010000
END:DAYLIGHT
BEGIN:STANDARD
TZOFFSETFROM:+0200
TZOFFSETTO:+0100
TZNAME:CET
DTSTART:20271031T010000
END:STANDARD
END:VTIMEZONE
BEGIN:VEVENT
DTSTART;TZID=Europe/Paris:20260130T100000
DTEND;TZID=Europe/Paris:20260130T140000
DTSTAMP:20260421T222141
CREATED:20260109T143601Z
LAST-MODIFIED:20260109T144112Z
UID:2184-1769767200-1769781600@makka.sport.hu
SUMMARY:VárKastély Kör - Vajdahunyad Vára
DESCRIPTION:A Városliget egyik legkülönlegesebb épülete a Vajdahunyad vára (hivatalos nevén a Történelmi Épületcsoport). Az 1896-os millenniumi kiállításra született azzal a céllal\, hogy három dimenzióban\, egyetlen séta alatt megmutassa a hazai építészet ezer évét. Alpár Ignác merészen és mégis harmonikusan fűzte össze a román\, gótikus\, reneszánsz és barokk stílusjegyeket – ettől olyan\, mintha több korszakon sétálnánk végig pár perc alatt. A vár első verziója gyorsan\, ideiglenes anyagokból készült\, majd a közönségsiker miatt tartós formában is megépítették\, s ma is a ligeti séta egyik csúcspontja.\n\n\n\n\n\n\n\nAz épületben helyet kapott a Mezőgazdasági kiállitás. Emellett megtekintjük a Kaputornyot\, ahol többek között Róth Miksa üvegmühelyében készült rózsablakot és Mátyás király fekete seregének jellegzetes tárgyait láthatjuk. Az Apostolok tornya a segesvári óratornyot idézi és a tetejéről gyönyörü a budapesti panoráma.\n\nTalálkozunk 9:45- kor a Vajdahunyad várában az Anonymus szobornál.\n\n\nRészvételi díj vezetéssel MAKKÁs nyugdíjasoknak 3500 Ft\, 70 év felettieknek 1000.-Ft\, külsősöknek 4000.-/1500.-Ft\n\n\n\n\nIgény szerint utána átsétálunk a Néprajzi Múzeumba\, ahol két időszaki kiállítás lesz nyitva január 30-án:\n\nHétköznapi luxus. A királyné asztalától a parasztházig \nA Zsolnay\, a holicsi\, a hollóházi\, a Fischer és a köznépi kerámiák sosem látott válogatása találkozik a Néprajzi Múzeum kiállítóterében\, hogy a hazai keménycserépgyártás csaknem kétszáz éves történetén keresztül meséljen a magyar ízlésről\, identitásról és a mindennapok alakulásáról. A Hétköznapi luxus. A királyné asztalától a parasztházig című nagyszabású tárlat a Néprajzi Múzeum\, az Iparművészeti Múzeum és a Magyar Nemzeti Múzeum együttműködésében valósul meg\, és a keménycserép sokszínű világát mutatja be – a főúri étkészletek eleganciájától a parasztházak falait díszítő színes tányérokig. A tárlaton látható mintegy 600 db műtárgyon keresztül nemcsak ugyanannak az anyagnak a sokféle felhasználásával találkozunk\, hanem hallhatunk társadalmi mobilitásról\, a nemzeti önkép változásáról vagy a modern formatervezés kialakulásáról. \nFoltvarrás kékben \nA foltvarrás egyszerre türelemjáték\, találkozás és emlékezés. Egy apró darab anyagból indul\, majd másikhoz simul\, motívumot\, történetet formál. A Néprajzi Múzeumban 2025. november 13-a és 2026. február 22-e között megtekinthető Foltvarrás kékben / Blueprint Patchwork című kiállítás a Nagyjainktól örökül kékfestő pályázat nyertes pályaművei mellett ezt az egymásba varrt világot tárja fel – a kézimunka csendes idejét\, a közösségi alkotás örömét\, és azt a láthatatlan hálót\, amely évtizedek óta összeköti a foltvarrókat. \nItt a belépődíja a két időszaki kiállításnak 70 éves kor alatt 2200.- Ft\, 70 év felett ingyenes \n﻿Loading…
URL:https://makka.sport.hu/event/varkastely-kor-vajdahunyad-vara/
LOCATION:Budapest
CATEGORIES:Kezdőknek,Kirándulás
ATTACH;FMTTYPE=image/jpeg:https://makka.sport.hu/wp-content/uploads/2026/01/Vajdahunyad.jpg
ORGANIZER;CN="MAKKA Szabadid%C5%91sport Egyes%C3%BClet":MAILTO:klub@makka.sport.hu
END:VEVENT
END:VCALENDAR