BEGIN:VCALENDAR
VERSION:2.0
PRODID:-//MAKKA Szabadidősport Egyesület - ECPv6.15.20//NONSGML v1.0//EN
CALSCALE:GREGORIAN
METHOD:PUBLISH
X-ORIGINAL-URL:https://makka.sport.hu
X-WR-CALDESC:Események MAKKA Szabadidősport Egyesület
REFRESH-INTERVAL;VALUE=DURATION:PT1H
X-Robots-Tag:noindex
X-PUBLISHED-TTL:PT1H
BEGIN:VTIMEZONE
TZID:Europe/Paris
BEGIN:DAYLIGHT
TZOFFSETFROM:+0100
TZOFFSETTO:+0200
TZNAME:CEST
DTSTART:20220327T010000
END:DAYLIGHT
BEGIN:STANDARD
TZOFFSETFROM:+0200
TZOFFSETTO:+0100
TZNAME:CET
DTSTART:20221030T010000
END:STANDARD
BEGIN:DAYLIGHT
TZOFFSETFROM:+0100
TZOFFSETTO:+0200
TZNAME:CEST
DTSTART:20230326T010000
END:DAYLIGHT
BEGIN:STANDARD
TZOFFSETFROM:+0200
TZOFFSETTO:+0100
TZNAME:CET
DTSTART:20231029T010000
END:STANDARD
BEGIN:DAYLIGHT
TZOFFSETFROM:+0100
TZOFFSETTO:+0200
TZNAME:CEST
DTSTART:20240331T010000
END:DAYLIGHT
BEGIN:STANDARD
TZOFFSETFROM:+0200
TZOFFSETTO:+0100
TZNAME:CET
DTSTART:20241027T010000
END:STANDARD
END:VTIMEZONE
BEGIN:VEVENT
DTSTART;TZID=Europe/Paris:20230303T070000
DTEND;TZID=Europe/Paris:20230303T170000
DTSTAMP:20260420T134200
CREATED:20230226T132112Z
LAST-MODIFIED:20230227T212242Z
UID:1531-1677826800-1677862800@makka.sport.hu
SUMMARY:Hóvirág-túra
DESCRIPTION:Időpont: 2023. március 3. péntek \nTalálkozunk a Klubháznál\, indulás innen 7 órakor különjárati autóbusszal \nTervezett program: \n\nPáty Sasfészek-tó\nPátyi Pincehegy\nZsámbéki Romtemplom\nAlcsúti Arborétum\nMartonvásár Brunszvik kastély kertje\nfakultatív program: Beethowen Múzeum és az Agroverzum megtekintése (A) cukrászda (B)\n\nAz út során több szakaszban rövid túrát teszünk\, a terepen jelentős szintkülönbség nincs. Kezdőknek is ajánlom! Étkezés: önellátás \nRészvételi díjak: \negyesületi tagoknak: 7500.-Ft\nPreventív Gyalogló program résztvevőinek: 7000.-Ft\nkülsősöknek: 8000.-Ft\nmely tartalmazza az utazás\, park és templomkert belépőjegyek díját\, de nem tartalmazza a fakultatív programok költségét („A” program: 1400.- és „B” program) \nA részvételi díjak fizetése banki átutalással a 16200175-11535111 bankszámlára vagy legkésőbb szerdán személyesen történhet készpénzben vagy bankkártyával. \nBetöltés… \n 
URL:https://makka.sport.hu/event/hovirag-tura/
LOCATION:MAKKA Klubház\, 517. utca 25.\, Budapest\, Budapest\, 1173\, Magyarország
CATEGORIES:Kezdőknek,Kirándulás
ORGANIZER;CN="MAKKA Szabadid%C5%91sport Egyes%C3%BClet":MAILTO:klub@makka.sport.hu
END:VEVENT
END:VCALENDAR