BEGIN:VCALENDAR
VERSION:2.0
PRODID:-//MAKKA Szabadidősport Egyesület - ECPv6.15.20//NONSGML v1.0//EN
CALSCALE:GREGORIAN
METHOD:PUBLISH
X-WR-CALNAME:MAKKA Szabadidősport Egyesület
X-ORIGINAL-URL:https://makka.sport.hu
X-WR-CALDESC:Események MAKKA Szabadidősport Egyesület
REFRESH-INTERVAL;VALUE=DURATION:PT1H
X-Robots-Tag:noindex
X-PUBLISHED-TTL:PT1H
BEGIN:VTIMEZONE
TZID:Europe/Paris
BEGIN:DAYLIGHT
TZOFFSETFROM:+0100
TZOFFSETTO:+0200
TZNAME:CEST
DTSTART:20250330T010000
END:DAYLIGHT
BEGIN:STANDARD
TZOFFSETFROM:+0200
TZOFFSETTO:+0100
TZNAME:CET
DTSTART:20251026T010000
END:STANDARD
BEGIN:DAYLIGHT
TZOFFSETFROM:+0100
TZOFFSETTO:+0200
TZNAME:CEST
DTSTART:20260329T010000
END:DAYLIGHT
BEGIN:STANDARD
TZOFFSETFROM:+0200
TZOFFSETTO:+0100
TZNAME:CET
DTSTART:20261025T010000
END:STANDARD
BEGIN:DAYLIGHT
TZOFFSETFROM:+0100
TZOFFSETTO:+0200
TZNAME:CEST
DTSTART:20270328T010000
END:DAYLIGHT
BEGIN:STANDARD
TZOFFSETFROM:+0200
TZOFFSETTO:+0100
TZNAME:CET
DTSTART:20271031T010000
END:STANDARD
END:VTIMEZONE
BEGIN:VEVENT
DTSTART;VALUE=DATE:20260401
DTEND;VALUE=DATE:20260402
DTSTAMP:20260420T154643
CREATED:20260212T102044Z
LAST-MODIFIED:20260402T123908Z
UID:2280-1775001600-1775087999@makka.sport.hu
SUMMARY:Mozgás-snackek: napi 10 perc a hosszabb és önállóbb életért
DESCRIPTION:Sokan úgy gondolják\, a mozgás vagy „nagy edzés”\, vagy semmi. Pedig a hosszú távon működő megoldás sokszor pont az ellenkezője: kicsi\, gyakori mozgás-adagok a nap folyamán. Ezt hívják „mozgás-snacknek” – olyan\, mint az egészséges nasi: rövid\, könnyen beilleszthető a napirendünkbe. 60 év felett nem elsősorban a sportteljesítmény a célunk. A rendszeres mozgásssal elérhető a hosszabb ideig megőrzött önálló életvitel: hogy könnyebb legyen felállni\, lépcsőzni\, cipekedni\, stabilan járni\, hogy kisebb eséllyel jöjjön egy olyan esés\, ami hetekre-hónapokra visszaveti az aktivitásunkat és a függetlenségünket\, kiszolgáltatottá tesz. \nA jó hír az\, hogy ehhez nem feltétlen kell edzőtermi bérlet. A kicsi\, akár otthon is végezhető mozgások javítják a keringést\, „felébresztik” az izmokat és az idegrendszert\, és segítenek abban\, hogy a mindennapi tevékenységek (bevásárlás\, takarítás\, buszra fellépés\, kertészkedés) kevésbé legyen megterhelő. A WHO (Egészségügyi Világszervezet) általános ajánlása szerint felnőtteknek – így az idősebbeknek is – hetente legalább 150 perc közepes intenzitású mozgás szükséges az egészség és az önállóság megőrzéséhez. Emellett fontos az izomerősítés és az egyensúlyfejlesztés is. Oké\, a napi 10 perc önmagában még nem 150. Viszont a 10 perc sem „kevés” – hanem tökéletes belépő. A legtöbben nem azért nem mozognak\, mert ne lennének képesek rá\, hanem mert a cél túl nagynak tűnik. A mozgás-snack pont ebben segít: rendszerességet épít\, és innen könnyebb továbblépni. \nA matek egyszerű: a napi 10 perc = heti 70 perc. Ha ezt kiegészítjük heti 1–2 hosszabb\, pl. 50-60 perces vagy 3-4 alkalommal 20-30 perces gyaloglással vagy nordic walkinggal\, már sokat tettünk az egészséges életéveink számának növeléséért.\n \nAzonban nem mindegy\, miből építjük fel a napi mozgást. Az alsó végtagi erő (comb\, farizom\, lábszár) a független életvitel egyik legfontosabb fizikai alapja. Ennek az az oka\, hogy a mindennapi önállóság „kritikus” mozdulatai szinte mind láberőre épülnek: felállás székből\, ágyból\, WC-ről\, lépcsőzés\, küszöbátlépés\, egyensúly visszanyerése megbillenéskor (ez dönt sérülés és testi épség között) A láb izmai gyors gyengülésre képesek\, a mindennapi önálló életvitelünk kerül veszélybe: lassulás\, bizonytalanság\, kapaszkodás\, kevesebb kimozdulás\, végül könnyebben kialakul az a spirál\, hogy „kevesebbet mozgok – még gyengébb vagyok – még kevesebbet mozgok”. A mozgás-snackek célja pont ennek az ellenkezője: kis adagokkal megtartani (és visszaépíteni) azt a minimális erőt\, ami az önállósághoz szükséges. \nA mozgás-snack szabálya: kicsi\, biztonságos\, rendszeres.  Egy mozgás-snack 1–5 perc. Naponta 2–6 alkalom. Összesen kijön belőle 10–15 perc\, és már ez is sokat számít. \nAz ideális intenzitás: érezd\, hogy dolgozol\, de tudj beszélgetni közben.\n Fájdalom-szabály: a mozgás nem „kínzás”. Enyhe feszülés belefér\, éles fájdalom nem. \n5 egyszerű mozgás-snack\, amit bárki elkezdhet\n1) Székből felállás – a függetlenség alapja (1 perc)\n Ülj egy stabil székre. Karok a mellkas előtt keresztezve (nehezebb) vagy stabil asztalon támaszkodnak (könnyebb).\n Állj fel\, ülj vissza – lassan\, kontrolláltan.\n Kezd 5 ismétléssel. Ha megy\, emeld 8–10-re.\n Miért jó? Ez a mozdulat a mindennapi önállóság „kulcsa”: felállás\, WC\, autóból kiszállás. Végezd minden étkezés előtt\, akkor nem felejted el! \n2) Sarok–lábujj váltás állva – keringés és boka (1–2 perc)\n Állj megkapaszkodva (konyhapultnál).\n Emelkedj lábujjra → vissza → emelkedj sarokra (lábujjak fel)→ vissza.\n Miért jó? Aktiválja a lábszárat és a bokát\, ami az egyensúlyban is fontos\, javítja a keringést. \n3) „Kapaszkodós” egyensúly (1 perc)\n Fogd a pultot vagy stabil széktámlát.\n Emeld fel az egyik lábad 5–10 másodpercre\, majd csere.\n Ha stabil: csökkentsd a kapaszkodást (csak ujjbegy).\n Miért jó? Az egyensúly tanulható – és ez esésmegelőzés. \n4) Vállkörzés + lapockazárás – tartás és légzés (1 perc)\n Vállkörzés hátra majd lapockazárás 10×: húzd hátra a vállad\, mintha „kihúznád magad” 10×.\n Miért jó? Javul a tartás\, könnyebb a légzés\, csökken a merevség ülő életmód mellett. \n5) Mini séta „küszöbig és vissza” (2–3 perc)\n Ha telefonálsz\, reklám van\, vagy vizet forralsz: sétálj a lakásban 2–3 percet.\n Miért jó? A rendszeres mini-séta a legegyszerűbb állóképesség-fejlesztés. \nHogyan legyen ebből szokás? (itt dől el minden)\nA mozgás-snack akkor működik\, ha valamihez kötöd: \n\nreggeli kávé előtt 1 perc felállás-gyakorlat\n\nebéd előtt 1 perc sarok–lábujj\n\nTV-reklám alatt 2 perc séta\n\nfogmosás után 1 perc egyensúly kapaszkodva\n\n\nNem motiváció kell hozzá\, hanem „automatika”. Ha minden nap ugyanabban a pillanatban csinálod\, a tested egy idő után „kéri”. \nFontos: felelősség és biztonság\nEzek a javaslatok általános\, egészségmegőrző ötletek. A saját tested jelzéseit neked kell komolyan venni\, és a biztonság az első. \nHa szív- és keringési panasz\, szédülés\, elesés a közelmúltban\, bizonytalan járás\, erős ízületi fájdalom\, friss műtét\, vagy bármilyen krónikus állapot miatt kérdésed van\, akkor a háziorvosoddal (vagy kezelőorvosoddal/gyógytornásszal) érdemes egyeztetni\, hogy neked mi a biztonságos terhelés és mi az\, amit kerülni kell. \nA mozgás-snackeknél is igaz: kicsiben kezdd\, kapaszkodva csináld\, és fokozatosan építkezz. A felelősség a saját tested jelzéseinek figyelése – az orvosi oldal pedig a háziorvos/kezelőorvos kompetenciája. \nAhogy a fogmosás sem „külön program”\, hanem alap\, úgy érdemes a mozgást is így kezelni: röviden\, rendszeresen\, minden nap. A napi 10 perc ereje abban van\, hogy szokássá válik – és ha ez megvan\, könnyű ráépíteni: 10 percből lesz 15–20 perc\, mellé jön heti 1–2 hosszabb\, kényelmes tempójú séta\, és a WHO által javasolt heti 150 perc már nem elmélet\, hanem a hét természetes része. Ennek a „könnyen beilleszthető” szemléletnek a gyakorlati részét hozzuk a MAKKA márciusi programjain is: csatlakoz hozzánk\, tarts velünk! \nTovábbi rövid\, otthon is végezhető mozgás videókat itt találsz: IDOSBARAT.HU
URL:https://makka.sport.hu/event/mozgas-snackek-napi-10-perc-a-hosszabb-es-onallobb-eletert/
CATEGORIES:Beginners
ATTACH;FMTTYPE=image/jpeg:https://makka.sport.hu/wp-content/uploads/2026/02/otthon-masolata.jpg
END:VEVENT
END:VCALENDAR