BEGIN:VCALENDAR
VERSION:2.0
PRODID:-//MAKKA Szabadidősport Egyesület - ECPv6.15.20//NONSGML v1.0//EN
CALSCALE:GREGORIAN
METHOD:PUBLISH
X-WR-CALNAME:MAKKA Szabadidősport Egyesület
X-ORIGINAL-URL:https://makka.sport.hu
X-WR-CALDESC:Események MAKKA Szabadidősport Egyesület
REFRESH-INTERVAL;VALUE=DURATION:PT1H
X-Robots-Tag:noindex
X-PUBLISHED-TTL:PT1H
BEGIN:VTIMEZONE
TZID:Europe/Paris
BEGIN:DAYLIGHT
TZOFFSETFROM:+0100
TZOFFSETTO:+0200
TZNAME:CEST
DTSTART:20240331T010000
END:DAYLIGHT
BEGIN:STANDARD
TZOFFSETFROM:+0200
TZOFFSETTO:+0100
TZNAME:CET
DTSTART:20241027T010000
END:STANDARD
BEGIN:DAYLIGHT
TZOFFSETFROM:+0100
TZOFFSETTO:+0200
TZNAME:CEST
DTSTART:20250330T010000
END:DAYLIGHT
BEGIN:STANDARD
TZOFFSETFROM:+0200
TZOFFSETTO:+0100
TZNAME:CET
DTSTART:20251026T010000
END:STANDARD
BEGIN:DAYLIGHT
TZOFFSETFROM:+0100
TZOFFSETTO:+0200
TZNAME:CEST
DTSTART:20260329T010000
END:DAYLIGHT
BEGIN:STANDARD
TZOFFSETFROM:+0200
TZOFFSETTO:+0100
TZNAME:CET
DTSTART:20261025T010000
END:STANDARD
END:VTIMEZONE
BEGIN:VEVENT
DTSTART;VALUE=DATE:20251010
DTEND;VALUE=DATE:20251011
DTSTAMP:20260420T015351
CREATED:20251003T063424Z
LAST-MODIFIED:20251005T153441Z
UID:2150-1760054400-1760140799@makka.sport.hu
SUMMARY:Sződliget
DESCRIPTION:Indulás Nyugatiból vonattal 8:45 érkezés 9\,17.\nTervezett program:\n\nKorsók háza (magángyüjtemény\, több mint 1000 söröskorsó sok országból\, közte a világ legkisebb és legnagyobb Guiness rekorder korsója)\nMesetó\nSződrákos patak és Ligeterdő tanösvény.\n\nVonattól a tervezett úthossz kb. 5 km\,\nTerveztt hazaindulás 13:30 körül \nA részvétel MAKKA tagoknak díjtalan\, külsősöknek 1000 Ft. Ha a Mesetónál lesz vezetés\, annak költségét szétosztjuk a résztvevők között. \n\n\n\n\n\n\n\n\n\n\n\n\n\n\n\n\n\n\n\nLoading…
URL:https://makka.sport.hu/event/szodliget/
LOCATION:Sződliget\, Hungary
ATTACH;FMTTYPE=image/jpeg:https://makka.sport.hu/wp-content/uploads/2025/10/Szodliget.jpg
ORGANIZER;CN="MAKKA Szabadid%C5%91sport Egyes%C3%BClet":MAILTO:klub@makka.sport.hu
END:VEVENT
END:VCALENDAR