BEGIN:VCALENDAR
VERSION:2.0
PRODID:-//MAKKA Szabadidősport Egyesület - ECPv6.15.20//NONSGML v1.0//EN
CALSCALE:GREGORIAN
METHOD:PUBLISH
X-ORIGINAL-URL:https://makka.sport.hu
X-WR-CALDESC:Események MAKKA Szabadidősport Egyesület
REFRESH-INTERVAL;VALUE=DURATION:PT1H
X-Robots-Tag:noindex
X-PUBLISHED-TTL:PT1H
BEGIN:VTIMEZONE
TZID:Europe/Paris
BEGIN:DAYLIGHT
TZOFFSETFROM:+0100
TZOFFSETTO:+0200
TZNAME:CEST
DTSTART:20250330T010000
END:DAYLIGHT
BEGIN:STANDARD
TZOFFSETFROM:+0200
TZOFFSETTO:+0100
TZNAME:CET
DTSTART:20251026T010000
END:STANDARD
BEGIN:DAYLIGHT
TZOFFSETFROM:+0100
TZOFFSETTO:+0200
TZNAME:CEST
DTSTART:20260329T010000
END:DAYLIGHT
BEGIN:STANDARD
TZOFFSETFROM:+0200
TZOFFSETTO:+0100
TZNAME:CET
DTSTART:20261025T010000
END:STANDARD
BEGIN:DAYLIGHT
TZOFFSETFROM:+0100
TZOFFSETTO:+0200
TZNAME:CEST
DTSTART:20270328T010000
END:DAYLIGHT
BEGIN:STANDARD
TZOFFSETFROM:+0200
TZOFFSETTO:+0100
TZNAME:CET
DTSTART:20271031T010000
END:STANDARD
END:VTIMEZONE
BEGIN:VEVENT
DTSTART;VALUE=DATE:20260410
DTEND;VALUE=DATE:20260411
DTSTAMP:20260419T152117
CREATED:20260212T113404Z
LAST-MODIFIED:20260401T092402Z
UID:2292-1775779200-1775865599@makka.sport.hu
SUMMARY:VárKastély Kör - Tolna
DESCRIPTION:Tervezett program: \n\nDég – medvehagyma szedés parkon kívül – csak hogy idén se maradjon el\nSimontornyai vár (1270-es években épült mocsárvár\, amely az évszázadok során gótikus és reneszánsz stílusú palotává alakult\, ma pedig izgalmas vármúzeumként mutatja be Tolna vármegye történelmét.)\nOzorai Pipó Vára – Ozora (A XV. század elején épült ozorai várkastély a magyarországi reneszánsz építészet egyik legszebb\, itáliai stílust idéző emléke\, amely egykor a híres hadvezér\, Ozorai Pipó otthonául és gazdasági központjaként szolgált.)\nOzora – vásározás (info itt: Dél-Dunántúl legnagyobb használtcikk piaca)\nTamási ebéd („A” menü: húsleves\, rántott hús vegyes körettel\, „B” menü\, húsleves vadpörkölt galuskával\, „C” menü dámszelet párizsi módra vegyes körettel)\nApponyi Kastély Hőgyész – kívülről (A hőgyészi Apponyi-kastély a 18.században épült monumentális barokk épületegyüttes\, amely egykor a híres Apponyai család rezidenciája volt\, majd az orzág egyik legexkluzívabb kastélyszállójaként vált ismertté)\nZávod – a falu megtekintése (Závod a Völgység egyik legszebb fekvésű falujaként\, gazdag német nemzetiségi hagyományairól\, látványos barokk templomáról és a példaértékű közösségi összefogással elért faluszépítési eredményeiről nevezetes.)\nKölesd kismegyeháza\, Padlásmúzeum ( Kölesd egyik legfontosabb műemléke\, egy 1750 körül épült barokk kastély\, amely nevét onnan kapta\, hogy egy időben itt tartották Tolna vármegye gyűléseit\, ma pedig kulturális központként és a helyi fehérhímzés otthonaként szolgál.)\nPaks Sárgödör tér pincesor (egyedülálló hangulatú pincefalu\, amelyet 66 szorosan egymás mellé épült\, múlt századi hangulatot idéző présház vesz körül. A szilvamag alakú tér Paks építészeti örökségének ékköve\, amely ma is a helyi borkultúra és a híres paksi siller bor egyik legfontosabb központja)\n\nIndulás a Klubháztól 6 órakor\, felszállási lehetőség a Népligetnél\, a Könyves Kálmán körút – TCom székház előtt\nTervezett hazaérkezés a késő esti órákban \nA programváltoztatás jogát fenntartjuk. \nRészvételi díj: egyesületi tagoknak (MAKKA) 17 000.- külsősöknek 19 000.-  mely tartalmazza az utazás\, szervezés\, belépőjegyek\, „A” menü árát.\nVadétel felár: 2000.-Ft\nBefizetés készpénzben a Klubházban történik\, külsősöknek átutalásos számlát küldünk. Ehhez megjegyzésben kérjük feltüntetni a számlázási adatokat (irányítószám\, utca házszám) \nBetöltés…
URL:https://makka.sport.hu/event/varkastely-kor-tolna/
ATTACH;FMTTYPE=image/jpeg:https://makka.sport.hu/wp-content/uploads/2026/02/tolna-1.jpg
END:VEVENT
END:VCALENDAR