BEGIN:VCALENDAR
VERSION:2.0
PRODID:-//MAKKA Szabadidősport Egyesület - ECPv6.15.20//NONSGML v1.0//EN
CALSCALE:GREGORIAN
METHOD:PUBLISH
X-WR-CALNAME:MAKKA Szabadidősport Egyesület
X-ORIGINAL-URL:https://makka.sport.hu
X-WR-CALDESC:Események MAKKA Szabadidősport Egyesület
REFRESH-INTERVAL;VALUE=DURATION:PT1H
X-Robots-Tag:noindex
X-PUBLISHED-TTL:PT1H
BEGIN:VTIMEZONE
TZID:Europe/Paris
BEGIN:DAYLIGHT
TZOFFSETFROM:+0100
TZOFFSETTO:+0200
TZNAME:CEST
DTSTART:20210328T010000
END:DAYLIGHT
BEGIN:STANDARD
TZOFFSETFROM:+0200
TZOFFSETTO:+0100
TZNAME:CET
DTSTART:20211031T010000
END:STANDARD
BEGIN:DAYLIGHT
TZOFFSETFROM:+0100
TZOFFSETTO:+0200
TZNAME:CEST
DTSTART:20220327T010000
END:DAYLIGHT
BEGIN:STANDARD
TZOFFSETFROM:+0200
TZOFFSETTO:+0100
TZNAME:CET
DTSTART:20221030T010000
END:STANDARD
BEGIN:DAYLIGHT
TZOFFSETFROM:+0100
TZOFFSETTO:+0200
TZNAME:CEST
DTSTART:20230326T010000
END:DAYLIGHT
BEGIN:STANDARD
TZOFFSETFROM:+0200
TZOFFSETTO:+0100
TZNAME:CET
DTSTART:20231029T010000
END:STANDARD
END:VTIMEZONE
BEGIN:VEVENT
DTSTART;TZID=Europe/Paris:20221021T090000
DTEND;TZID=Europe/Paris:20221021T200000
DTSTAMP:20260424T132504
CREATED:20221010T182136Z
LAST-MODIFIED:20221010T183133Z
UID:1389-1666342800-1666382400@makka.sport.hu
SUMMARY:Bükk
DESCRIPTION:A változatos Bükkalja\nIndulás: 7:30 órakor a Pesti úti Tesco parkolóból\nUtazás különjárati autóbusszal\nVárható hazaérkezés: kb 19 órakor\nRészvételi díj: 3000.-Ft\, mely a szervezés\, ebéd\, belépődíj költségét tartalmazza\nA túravezetés és az utazás költségét pályázati támogatásból finanzírozzuk. \nTervezett program: \n4 km-es séta Cserépfalu – Millenniumi kilátó – pincesor – riolittufa szurdok – Hidegkút lapoa 300 éves tölgyekkel – Hór-völgyi látogatóközpont\nebéd: zöldségleves\, brassói aprópecsenye\nSubalyuk barlang / Hór völgyi látogatóközpont kiállításának megtekintése\nNoszvaj művésztelep barlanglakások\n \nSzomolyai kaptárkövek megtekintése\nHazaérkezés 19-20 óra körül \nA programot úgy állítottuk össze\, hogy számottevő szintkülönbség ne legyen\, az utat bármelyik nordic walkingosunk teljesíthesse. \nA program a NEAO-KP-1-2022/4-000175 pályázati támogatás segítségével valósul meg. \n \nBetöltés…
URL:https://makka.sport.hu/event/bukk/
LOCATION:Cserépfalu
CATEGORIES:Kirándulás
ATTACH;FMTTYPE=image/jpeg:https://makka.sport.hu/wp-content/uploads/2022/10/DJI_0058-scaled-e1665428295922.jpg
ORGANIZER;CN="MAKKA Szabadid%C5%91sport Egyes%C3%BClet":MAILTO:klub@makka.sport.hu
END:VEVENT
BEGIN:VEVENT
DTSTART;TZID=Europe/Paris:20221022T150000
DTEND;TZID=Europe/Paris:20221022T190000
DTSTAMP:20260424T132504
CREATED:20191030T141344Z
LAST-MODIFIED:20221009T192151Z
UID:421-1666450800-1666465200@makka.sport.hu
SUMMARY:Énidő
DESCRIPTION:Teadélután a MAKKÁ-val\nEzt az eseményt elsősorban azoknak szervezzük\, akik még nem tagjai az egyesületnek\, igazából aféle ismerkedési alkalomnak szánjuk\, ahol bemutatkozhatunk Nektek és megismerhetünk Benneteket. Gyere el hozzánk egy teára\, töltsünk együtt egy kellemes délutánt\, hiszen énidőre Neked is szükséged van! \nProgramok: \n\nÉvszakok és színek – mi áll jól nekem? Hogyan tesznek széppé a jól megválasztott színek és mitől tartózkodjam? Beszélgetés a színválasztásról Krisztik Ágnes színtanácsadóval\nAnti Ageing program – avagy hogyan maradjunk fiatalosak? Ebben Kovács Kriszta szenior tréner segít\nEgy kis mozgás: preventív lábtorna Kovács Krisztával. Mi a Makkában sokat mozgunk\, így ez ma sem maradhat el. Ezek a gyakorlatok segítenek megőrizni lábunk egészségét\, és késleltetik a sarkantyú\, bütyök\, kalapácsujj kialakulását.\nMAKKAMODA – Rád szabva. Kényelemes és csinos testalkattól függetlenül. Szenior szabadidős ruházat\, öltözködési tanácsadás Morvai Idával.\nInbody testösszetétel-mérés\, mely segíti az életmódváltást\, s a súlyodon túl őszinte képet ad arról\, hogy mennyire vagy és lehetsz fitt és egészséges ma ill. a jövőben.\n\nBetöltés…
URL:https://makka.sport.hu/event/enido/
LOCATION:MAKKA Klubház\, 517. utca 25.\, Budapest\, Budapest\, 1173\, Magyarország
CATEGORIES:Beltéri rendezvény
ATTACH;FMTTYPE=image/jpeg:https://makka.sport.hu/wp-content/uploads/2019/10/cup-g42e505d8b_1280-e1664602925977.jpg
ORGANIZER;CN="MAKKA Szabadid%C5%91sport Egyes%C3%BClet":MAILTO:klub@makka.sport.hu
END:VEVENT
END:VCALENDAR