BEGIN:VCALENDAR
VERSION:2.0
PRODID:-//MAKKA Szabadidősport Egyesület - ECPv6.15.20//NONSGML v1.0//EN
CALSCALE:GREGORIAN
METHOD:PUBLISH
X-ORIGINAL-URL:https://makka.sport.hu
X-WR-CALDESC:Események MAKKA Szabadidősport Egyesület
REFRESH-INTERVAL;VALUE=DURATION:PT1H
X-Robots-Tag:noindex
X-PUBLISHED-TTL:PT1H
BEGIN:VTIMEZONE
TZID:Europe/Paris
BEGIN:DAYLIGHT
TZOFFSETFROM:+0100
TZOFFSETTO:+0200
TZNAME:CEST
DTSTART:20210328T010000
END:DAYLIGHT
BEGIN:STANDARD
TZOFFSETFROM:+0200
TZOFFSETTO:+0100
TZNAME:CET
DTSTART:20211031T010000
END:STANDARD
BEGIN:DAYLIGHT
TZOFFSETFROM:+0100
TZOFFSETTO:+0200
TZNAME:CEST
DTSTART:20220327T010000
END:DAYLIGHT
BEGIN:STANDARD
TZOFFSETFROM:+0200
TZOFFSETTO:+0100
TZNAME:CET
DTSTART:20221030T010000
END:STANDARD
BEGIN:DAYLIGHT
TZOFFSETFROM:+0100
TZOFFSETTO:+0200
TZNAME:CEST
DTSTART:20230326T010000
END:DAYLIGHT
BEGIN:STANDARD
TZOFFSETFROM:+0200
TZOFFSETTO:+0100
TZNAME:CET
DTSTART:20231029T010000
END:STANDARD
END:VTIMEZONE
BEGIN:VEVENT
DTSTART;TZID=Europe/Paris:20221112T150000
DTEND;TZID=Europe/Paris:20221112T190000
DTSTAMP:20260424T114423
CREATED:20221009T192350Z
LAST-MODIFIED:20221009T192350Z
UID:1379-1668265200-1668279600@makka.sport.hu
SUMMARY:Énidő
DESCRIPTION:Teadélután a MAKKÁ-val\nEzt az eseményt elsősorban azoknak szervezzük\, akik még nem tagjai az egyesületnek\, igazából aféle ismerkedési alkalomnak szánjuk\, ahol bemutatkozhatunk Nektek és megismerhetünk Benneteket. Gyere el hozzánk egy teára\, töltsünk együtt egy kellemes délutánt\, hiszen énidőre Neked is szükséged van! \nProgramok: \n\nÖltözködés 50 felett – hogyan takarjuk amit muszáj és emeljük ki azt ami szép? – Morvai Ida a Makka Moda tulajdonosa segít bennünket tanácsaival\nInbody testösszetétel-mérés\, mely segíti az életmódváltást\, s a súlyodon túl őszinte képet ad arról\, hogy mennyire vagy és lehetsz fitt és egészséges ma ill. a jövőben.\nMit mutat a súlyon túl? – testösszetétel-mérés eredményeinek kiértékelése\, tanácsadás Kovács Kriszta szenior trénerrel\nEgy kis mozgás: nordic walking alaptechnika és tanácsadás a megfelelő botválasztáshoz Kiss Rózsával\nMAKKAMODA – Rád szabva. Kényelemes és csinos testalkattól függetlenül. Szenior szabadidős ruházat\, egyéni öltözködési tanácsadás Morvai Idával.\n\nBetöltés…
URL:https://makka.sport.hu/event/enido-2/
LOCATION:MAKKA Klubház\, 517. utca 25.\, Budapest\, Budapest\, 1173\, Magyarország
CATEGORIES:Beltéri rendezvény,Kezdőknek
ATTACH;FMTTYPE=image/jpeg:https://makka.sport.hu/wp-content/uploads/2022/10/tea-gc9cc4d963_1920-e1665346511912.jpg
ORGANIZER;CN="MAKKA Szabadid%C5%91sport Egyes%C3%BClet":MAILTO:klub@makka.sport.hu
END:VEVENT
END:VCALENDAR