BEGIN:VCALENDAR
VERSION:2.0
PRODID:-//MAKKA Szabadidősport Egyesület - ECPv6.15.20//NONSGML v1.0//EN
CALSCALE:GREGORIAN
METHOD:PUBLISH
X-WR-CALNAME:MAKKA Szabadidősport Egyesület
X-ORIGINAL-URL:https://makka.sport.hu
X-WR-CALDESC:Események MAKKA Szabadidősport Egyesület
REFRESH-INTERVAL;VALUE=DURATION:PT1H
X-Robots-Tag:noindex
X-PUBLISHED-TTL:PT1H
BEGIN:VTIMEZONE
TZID:Europe/Paris
BEGIN:DAYLIGHT
TZOFFSETFROM:+0100
TZOFFSETTO:+0200
TZNAME:CEST
DTSTART:20220327T010000
END:DAYLIGHT
BEGIN:STANDARD
TZOFFSETFROM:+0200
TZOFFSETTO:+0100
TZNAME:CET
DTSTART:20221030T010000
END:STANDARD
BEGIN:DAYLIGHT
TZOFFSETFROM:+0100
TZOFFSETTO:+0200
TZNAME:CEST
DTSTART:20230326T010000
END:DAYLIGHT
BEGIN:STANDARD
TZOFFSETFROM:+0200
TZOFFSETTO:+0100
TZNAME:CET
DTSTART:20231029T010000
END:STANDARD
BEGIN:DAYLIGHT
TZOFFSETFROM:+0100
TZOFFSETTO:+0200
TZNAME:CEST
DTSTART:20240331T010000
END:DAYLIGHT
BEGIN:STANDARD
TZOFFSETFROM:+0200
TZOFFSETTO:+0100
TZNAME:CET
DTSTART:20241027T010000
END:STANDARD
END:VTIMEZONE
BEGIN:VEVENT
DTSTART;VALUE=DATE:20230705
DTEND;VALUE=DATE:20230706
DTSTAMP:20260423T230015
CREATED:20230616T111031Z
LAST-MODIFIED:20230616T124040Z
UID:1595-1688515200-1688601599@makka.sport.hu
SUMMARY:Somogy
DESCRIPTION:Somogy: Töreki – Kereki – Balatonföldvár – Balatonboglár \nIdőpont: 2023.07.05.\nSomogy vármegyébe\, a Balaton déli partjára invitállak Beneteket egy sokszínű kirándulásra. \nTervezett program: \n\nIndulás a Klubháztól 7.00-kor\, közlekedés különjárati autóbusszal\nTöreki tanösvény megismerése\nFehérkő várának megtekintése – Kereki\nEbéd Balatonföldváron\nKulipintyó-villa\, Hajózástörténeti látogatóközpont és kilátó megtekintése\, valamint séta a magasparton – Balatonföldvár\nLátogatás Csere János bácsinál a Bugaszegi téglagaléria és tanya tulajdonosánál\, aki sok érdekességet mutat nekünk – Balatonboglár\nBalatonparti szabadprogram\, strandolás – Balatonboglár\n\nVárható hazaérkezés az esti órákban\, kb. 20 órakor. \nRészvételi díj: egyesületi tagoknak: 13000 Ft\, külsősöknek 15000 Ft\, mely tartalmazza az utazás\, szervezés\, ebéd és belépőjegyek költségét. \nA részvételi díjat az alábbi számlaszámra kérjük utalni vagy a klubházban személyesen befizetni:\nMAKKA Szabadidősport Egyesület 16200175-11535166 \nJelentkezni itt tudtok: \nBetöltés…
URL:https://makka.sport.hu/event/somogy/
LOCATION:Somogy
ORGANIZER;CN="MAKKA Szabadid%C5%91sport Egyes%C3%BClet":MAILTO:klub@makka.sport.hu
END:VEVENT
END:VCALENDAR