BEGIN:VCALENDAR
VERSION:2.0
PRODID:-//MAKKA Szabadidősport Egyesület - ECPv6.15.20//NONSGML v1.0//EN
CALSCALE:GREGORIAN
METHOD:PUBLISH
X-WR-CALNAME:MAKKA Szabadidősport Egyesület
X-ORIGINAL-URL:https://makka.sport.hu
X-WR-CALDESC:Események MAKKA Szabadidősport Egyesület
REFRESH-INTERVAL;VALUE=DURATION:PT1H
X-Robots-Tag:noindex
X-PUBLISHED-TTL:PT1H
BEGIN:VTIMEZONE
TZID:Europe/Paris
BEGIN:DAYLIGHT
TZOFFSETFROM:+0100
TZOFFSETTO:+0200
TZNAME:CEST
DTSTART:20230326T010000
END:DAYLIGHT
BEGIN:STANDARD
TZOFFSETFROM:+0200
TZOFFSETTO:+0100
TZNAME:CET
DTSTART:20231029T010000
END:STANDARD
BEGIN:DAYLIGHT
TZOFFSETFROM:+0100
TZOFFSETTO:+0200
TZNAME:CEST
DTSTART:20240331T010000
END:DAYLIGHT
BEGIN:STANDARD
TZOFFSETFROM:+0200
TZOFFSETTO:+0100
TZNAME:CET
DTSTART:20241027T010000
END:STANDARD
BEGIN:DAYLIGHT
TZOFFSETFROM:+0100
TZOFFSETTO:+0200
TZNAME:CEST
DTSTART:20250330T010000
END:DAYLIGHT
BEGIN:STANDARD
TZOFFSETFROM:+0200
TZOFFSETTO:+0100
TZNAME:CET
DTSTART:20251026T010000
END:STANDARD
END:VTIMEZONE
BEGIN:VEVENT
DTSTART;TZID=Europe/Paris:20240308T154500
DTEND;TZID=Europe/Paris:20240308T180000
DTSTAMP:20260423T112537
CREATED:20240222T165107Z
LAST-MODIFIED:20240222T173311Z
UID:1716-1709912700-1709920800@makka.sport.hu
SUMMARY:Nőnapi bowling
DESCRIPTION:4 fős csapatok jelentkezését várjuk\, ha nincs csapatod\, akkor is jelentkezz\, majd keresünk Neked csapatot!\nRészvételi dj 4000.-/fő (+350 Ft/cipő)\, külsősöknek 5000.-Ft/fő\nA pályát 16-17.30-ig foglaljuk\, kérünk hogy érkezz korábban\, hogy pontosan kezdhessünk!\n(A rendezvényt minimum 4 csapat jelentkezése esetén tartjuk meg) \nHelyszín: Acapulco Bowling Klub (X. kerület Tavas utca 5.) \nBetöltés…
URL:https://makka.sport.hu/event/nonapi-bowling/
LOCATION:Acapulco Bowling Club\, Tavas utca\, Budapest\, 1106\, Magyarország
CATEGORIES:Buli
ATTACH;FMTTYPE=image/jpeg:https://makka.sport.hu/wp-content/uploads/2024/02/Bowling.jpg
ORGANIZER;CN="MAKKA Szabadid%C5%91sport Egyes%C3%BClet":MAILTO:klub@makka.sport.hu
END:VEVENT
BEGIN:VEVENT
DTSTART;TZID=Europe/Paris:20240313T083000
DTEND;TZID=Europe/Paris:20240313T150000
DTSTAMP:20260423T112537
CREATED:20240222T152315Z
LAST-MODIFIED:20240222T152939Z
UID:1711-1710318600-1710342000@makka.sport.hu
SUMMARY:Dél-Pesti Regionális Gyalogló Idősklub Találkozó
DESCRIPTION:Betöltés… \n 
URL:https://makka.sport.hu/event/del-pesti-regionalis-gyaloglo-idosklub-talalkozo/
LOCATION:Budapest
CATEGORIES:Workshop
ATTACH;FMTTYPE=image/jpeg:https://makka.sport.hu/wp-content/uploads/2024/02/marc-13.jpg
END:VEVENT
BEGIN:VEVENT
DTSTART;TZID=Europe/Paris:20240322T080000
DTEND;TZID=Europe/Paris:20240322T150000
DTSTAMP:20260423T112537
CREATED:20240222T172654Z
LAST-MODIFIED:20240222T173153Z
UID:1720-1711094400-1711119600@makka.sport.hu
SUMMARY:Bükkös-patak\, Szentendre
DESCRIPTION:Szép\, részben városi\, részben természetközeli séta a Bükkös–patak partján Szentendrén illetve igény szerint a városban. Az út bárki számára javasolt és vállalható. \nRészvételi dj 1500.-Ft\, külsősöknek 2000.-Ft \nTalálkozunk 8 órakos Rákos vasútállomáson\, ahonnan a 8:06-os vonattal Aquincum vá-ig utazunk\, ott HÉV-re szállunk. Csatlakozási lehetőség Aquincum HÉV-állomáson is lesz. \nBetöltés…
URL:https://makka.sport.hu/event/bukkos-patak-szentendre/
LOCATION:Szentendre
ATTACH;FMTTYPE=image/jpeg:https://makka.sport.hu/wp-content/uploads/2024/02/bukkos-patak.jpg
ORGANIZER;CN="MAKKA Szabadid%C5%91sport Egyes%C3%BClet":MAILTO:klub@makka.sport.hu
END:VEVENT
END:VCALENDAR