BEGIN:VCALENDAR
VERSION:2.0
PRODID:-//MAKKA Szabadidősport Egyesület - ECPv6.15.20//NONSGML v1.0//EN
CALSCALE:GREGORIAN
METHOD:PUBLISH
X-WR-CALNAME:MAKKA Szabadidősport Egyesület
X-ORIGINAL-URL:https://makka.sport.hu
X-WR-CALDESC:Események MAKKA Szabadidősport Egyesület
REFRESH-INTERVAL;VALUE=DURATION:PT1H
X-Robots-Tag:noindex
X-PUBLISHED-TTL:PT1H
BEGIN:VTIMEZONE
TZID:Europe/Paris
BEGIN:DAYLIGHT
TZOFFSETFROM:+0100
TZOFFSETTO:+0200
TZNAME:CEST
DTSTART:20230326T010000
END:DAYLIGHT
BEGIN:STANDARD
TZOFFSETFROM:+0200
TZOFFSETTO:+0100
TZNAME:CET
DTSTART:20231029T010000
END:STANDARD
BEGIN:DAYLIGHT
TZOFFSETFROM:+0100
TZOFFSETTO:+0200
TZNAME:CEST
DTSTART:20240331T010000
END:DAYLIGHT
BEGIN:STANDARD
TZOFFSETFROM:+0200
TZOFFSETTO:+0100
TZNAME:CET
DTSTART:20241027T010000
END:STANDARD
BEGIN:DAYLIGHT
TZOFFSETFROM:+0100
TZOFFSETTO:+0200
TZNAME:CEST
DTSTART:20250330T010000
END:DAYLIGHT
BEGIN:STANDARD
TZOFFSETFROM:+0200
TZOFFSETTO:+0100
TZNAME:CET
DTSTART:20251026T010000
END:STANDARD
END:VTIMEZONE
BEGIN:VEVENT
DTSTART;VALUE=DATE:20240904
DTEND;VALUE=DATE:20240907
DTSTAMP:20260423T015236
CREATED:20240819T154655Z
LAST-MODIFIED:20240819T154655Z
UID:1786-1725408000-1725667199@makka.sport.hu
SUMMARY:Aktív Hét
DESCRIPTION:A szeptembert ismét Aktív Héttel kezdjük\, a következő programokkal: A Rákosmente Önkormányzata által támogatott szerdai nordic walking program (ingyenes) idén szeptember 4-től már 10 órakor kezdődik ismét\, ezt ne feledjétek! Ezen a napon reggel 8 órától testösszetétel-méréssel várlak Benneteket\, Most is elmonodom\, hogy ilyenkor leginkább az izomtömeg megőrzését ellenőrizzük\, mert ez a titka annak hogy minél tovább fenntartsátok önálló életeteket\, aktivitásotokat\, jelenleg életminőségeteket. Reményeim szerint ezen  napon eljön Polgármester ÚR is\, hogy az őszi éveadot együtt nyissuk meg. A nordic walknig után ingyenes talpvizsgálatra is lesz lehetőség és közös bográcsos ebéddel zárjuk a délelőtti programot. Szeretettel várunk\, gyere\, tarts velünk! \nSzeptember 5-én csütörtökön Szenior Fitnesz Tesztet csinálunk. Itt megint kiderülhet\, hogy az utóbbi időben mely területen történt változás és hogy fittséged megfelel-e a korodnak\, esetleg sokkal jobb annál? Gyere\, nézzünk szembe a valósággal! Utána közös kültéri tornára várlak Benneteket\, mint minden csütörtökön. Mi\, akik ezen rendszeresen részt veszünk\, nagyon szeretjük ezt a fajta mozgást\, gyalogolunk\, erősítő és egyensúly feladatokat is végzünk\, s közben van lehetőség pici beszélgetésre\, viccelődésre is egymás között. Tarts velünk\, próbáld ki\, illetve visszavárunk\, ha eddig is velünk tornáztál csütörtökönként. Most ez az alkalom ingyenes lesz\, ahogy a Szenior Fitnesz Teszt is. \nSzeptember 6-án útra kelünk\, a programnak a Kertekalja nevet adtam\, hiszen nem megyünk messzire\, Pest Vármegye déli részén fűztem láncra érdekes helszíneket. Mindegyiknél csak rövid sétát teszünk\, végül az Attila dombon töltődünk délután. ITT találod a program leírását és a jelentkezési lap is itt van. \nBetöltés…
URL:https://makka.sport.hu/event/aktiv-het/
LOCATION:MAKKA Klubház\, 517. utca 25.\, Budapest\, Budapest\, 1173\, Magyarország
ATTACH;FMTTYPE=image/jpeg:https://makka.sport.hu/wp-content/uploads/2024/08/Aktiv-Het.jpg
ORGANIZER;CN="MAKKA Szabadid%C5%91sport Egyes%C3%BClet":MAILTO:klub@makka.sport.hu
END:VEVENT
BEGIN:VEVENT
DTSTART;VALUE=DATE:20240906
DTEND;VALUE=DATE:20240907
DTSTAMP:20260423T015236
CREATED:20240804T183033Z
LAST-MODIFIED:20240827T153817Z
UID:1777-1725580800-1725667199@makka.sport.hu
SUMMARY:Kertekalján Pest megyében
DESCRIPTION:Tervezett program: \n\nindulás 7 órakor a Klubháztól különjárati autóbusszal\nÖreghegyi pincesor Ócsa\nSelyemréti Tanösvény Ócsa\nSzent Jakab Tanösvény Dabas\nPusztavacs templomrom\, ország közepe\nAlbertirsa gyurgyalagos\nKincsem-park\, Attila Domb – Tápiószentmárton\nebéd ugyanitt: gulyásleves\, palacsinta\nismerkedés Gombával\nhazaérkezés várhatóan 17.30 körül\n\nRészvételi díj: 10.000 Ft klubtagoknak\, külsősöknek 13.000 Ft mely befizethető személyesen a klubházban \nJelentkezés: \nBetöltés…
URL:https://makka.sport.hu/event/kertekaljan-pest-megyeben/
LOCATION:Budapest
ATTACH;FMTTYPE=image/jpeg:https://makka.sport.hu/wp-content/uploads/2024/08/kertekalja-1.jpg
ORGANIZER;CN="MAKKA Szabadid%C5%91sport Egyes%C3%BClet":MAILTO:klub@makka.sport.hu
END:VEVENT
BEGIN:VEVENT
DTSTART;VALUE=DATE:20240920
DTEND;VALUE=DATE:20240921
DTSTAMP:20260423T015236
CREATED:20240819T141755Z
LAST-MODIFIED:20240903T083118Z
UID:1782-1726790400-1726876799@makka.sport.hu
SUMMARY:Barangolás Tolnában
DESCRIPTION:Csicsó-pusztán\, a hegyháti dombok Kapos völgyre néző peremén egy különleges forrás fakad\, a Csicsói Szentkút\, amihez számos helyi hagyomány kötődik. Ezek közül csak egy\, hogy aki megmosdik a kút vizében\, megszépül… \nEgyedülálló természeti környezet\, szelíd dombokkal és völgyekkel tagolt barátságos pannon táj\, nagy kiterjedésű tölgyes erdők és a hangulatos tavak. Aki körülnéz a kisszékelyi kilátóból\, szemet gyönyörködtető tájképben van része\, és megérezheti a harmóniát a természet\, illetve az ember sok évszázados ittléte\, tevékenysége között. A falu házai és utcái szervesen illeszkednek a völgyekbe\, a környező dombokon még megfigyelhető az egykori kisparcellás kertművelés során létrejött változatos tájhasználat\, azokon túl pedig a végeláthatatlan erdőségen nyugszik meg a tekintet. Ez az élmény lehet az alapja annak is\, hogy egy néhány éve meghirdetett internetes szavazás során Kisszékely lett Tolna megye legszebb fekvésű települése\, országosan pedig a negyedik helyezést érte el. \nA Rétszilasi-tavak a Sárvíz-völgyében kialakult ökológiai zöldfolyosó legdélibb és egyben az egyik legjelentősebb tagja. Kiemelt szerepe van a vízhez kötődő madarak fészkelése szempontjából\, de talán még ennél is fontosabb a vízi madarak vonulása idején. A természetvédelmi terület a Sárrét déli részén\, illetve a Dél-Mezőföld északi peremén helyezkedik el az ún. Rétszilasi süllyedékben. Fő határvonalait a térség két csatornája\, a Malom- és a Nádor-csatorna adják. Ez Rétimajor\, egy 1000 hektáros terület\, amelyből 800 a vízfelület\, Halakban gazdag terület\, halászcsárda\, halászati múzeum\, lótusz- és rózsakert\, melyet télen termálvíz tart életben. \nA kirándulás rövid túrákat tartalmaz\, csekély szintkülönbséggel\, bárkinek jó szívvel ajánlom! \nTervezett program: \n\nindulás 6:30-kor a Klubháztól\, utazás különjárati autóbusszal\nCsicsói Szentkút\nKisszékely: löszmélyút\, kilátó\, iskola- és helytörténeti múzeum\, Csádés-tó\nRétimajor: ebéd\, halászati múzeum\, séta\ntervezett hazaérkezés: 19 óra körül\n\nebéd menük: \nA menü: babgulyás cészében\, túrós csusza (3200 Ft) – ez esetben 500 Ft-tal alacsonyabb programdíj\nB menü: harcsa halászlé\, túrós csusza (3700 Ft) – árban\nC menü: tyúkhúseves\, fél adag magvas csirke hasábburgonyával\, tartárral (4200 Ft) – ez esetben 500 Ft-tal magasabb programdíj \nRészvételi díj\, mely tartalmazza az utazás\, túravezetés\, ebéd\, belépőjegyek árát: egyesületi tagoknak 13500.- \, külsősöknek 15500.-Ft (B menüvel) Fizetés készpénzben a klubházban történik. \nBetöltés… \n 
URL:https://makka.sport.hu/event/barangolas-tolnaban/
LOCATION:Budapest
CATEGORIES:Kezdőknek,Kirándulás
ATTACH;FMTTYPE=image/jpeg:https://makka.sport.hu/wp-content/uploads/2024/08/kisszekely.jpg
ORGANIZER;CN="MAKKA Szabadid%C5%91sport Egyes%C3%BClet":MAILTO:klub@makka.sport.hu
END:VEVENT
END:VCALENDAR