BEGIN:VCALENDAR
VERSION:2.0
PRODID:-//MAKKA Szabadidősport Egyesület - ECPv6.15.20//NONSGML v1.0//EN
CALSCALE:GREGORIAN
METHOD:PUBLISH
X-ORIGINAL-URL:https://makka.sport.hu
X-WR-CALDESC:Események MAKKA Szabadidősport Egyesület
REFRESH-INTERVAL;VALUE=DURATION:PT1H
X-Robots-Tag:noindex
X-PUBLISHED-TTL:PT1H
BEGIN:VTIMEZONE
TZID:Europe/Paris
BEGIN:DAYLIGHT
TZOFFSETFROM:+0100
TZOFFSETTO:+0200
TZNAME:CEST
DTSTART:20240331T010000
END:DAYLIGHT
BEGIN:STANDARD
TZOFFSETFROM:+0200
TZOFFSETTO:+0100
TZNAME:CET
DTSTART:20241027T010000
END:STANDARD
BEGIN:DAYLIGHT
TZOFFSETFROM:+0100
TZOFFSETTO:+0200
TZNAME:CEST
DTSTART:20250330T010000
END:DAYLIGHT
BEGIN:STANDARD
TZOFFSETFROM:+0200
TZOFFSETTO:+0100
TZNAME:CET
DTSTART:20251026T010000
END:STANDARD
BEGIN:DAYLIGHT
TZOFFSETFROM:+0100
TZOFFSETTO:+0200
TZNAME:CEST
DTSTART:20260329T010000
END:DAYLIGHT
BEGIN:STANDARD
TZOFFSETFROM:+0200
TZOFFSETTO:+0100
TZNAME:CET
DTSTART:20261025T010000
END:STANDARD
END:VTIMEZONE
BEGIN:VEVENT
DTSTART;TZID=Europe/Paris:20250107T180000
DTEND;TZID=Europe/Paris:20250311T200000
DTSTAMP:20260422T151228
CREATED:20240903T071011Z
LAST-MODIFIED:20250111T173002Z
UID:1792-1736272800-1741723200@makka.sport.hu
SUMMARY:Életmódváltó program 50 felett
DESCRIPTION:A MAKKA Szabadidősport Egyesület most az 50+ korosztályt várja\, nekik segít életmódváltásban\, korosztályos problémáik figyelembe vételével. Munkánkat most is fantasztikus szakemberek segítik\, résztben megszokott kollégáink\, részben olyan külsős szakemberek\, akik egyben barátaink is. Az előadásokon\, gyakorlatokon kívül persze most is mozogni csábítjuk a résztvevőket. Nézzük a 10 hetes Életmódváltó 50 plusz programját: \nA programok helyszíne: 1173 Budapest 517.utca 25. MAKKA Szabadidősport Egyesület Klubháza \n  \n2025.01.07. kedd 18.00-20.00 \n\nTáplálkozás és mozgás 50 felett\nelőadó: Ésik Judit dietetikus\, edző (tánc-\, zumba- és rehabilitációs pilates oktató\, a Semmelweis Egyetem Dietetikai és Táplálkozástudományi Tanszék oktatója. A Magyar Dietetikusok Országos Szövetségének megválasztott budapesti küldötte)\nInbody testösszetétel mérés – mely megmutatja hogy milyen arányban vesz részt a testsúlyban az izomszövet és a zsírszövet\, kiindulő képet ad a testről\, mely mérést a program végén megismétlünk.\nZenés mozgás Ésik Judittal  – kényelmes sportos öltözetben érkezz! \nGerinctorna – Zsombok Ildikó oktatóval. Ez egyízelítő azokból a gyakorlatokból\, melyeket kéthetente csütörtök esténként végezhetsz Ildikóval \n  \n2025.01.14. kedd 18.00-20.00 \n \n\nA stressz hatásainak fiziológiás enyhítése a mindennapokban – Szilágyi Szilárd szexológus\, párkapcsolati tanácsadó előadásának segítségével kiegyensúlyozottabban élhetjük meg a nehéz időszakokat is. Szilárd mutat gyakorlatokat is melyet saját magunk megnyugtatására végezhetünk.\nhonlap: https://szilard.coach/  \nBeharangozó: nordic walking vasárnap! – Kiss Rózsa nordic walking instruktor \n  \n2025.01.21. kedd 18.00-20.00 \n\nSzíntanácsadás a személyes harmónia érdekében – Borsiné Krisztik Ágnes színtanácsadó lesz a segítségünkre\, hogy a saját színvilágunkra rátaláljunk. Miért van az hogy bizonyos színekben ragyogsz\, máskor pedig szürke kisegérnek érzed magad – pedig nem is szürkébe öltöztél? A színtanácsadó komplexen elemez a bőrszín\, szemszín\, hajszín alapján\, és lát el nap mint nap használható tanácsokkal. \n2025.01.28. kedd 18.00-20.00 \n\nBlue Zones – avagy a sikeres öregedés titka. Kovács Kriszta szenior tréner interaktív előadása. Nem jó megöregedni – mondják sokan. Fiatalon meghallni még annyira sem. Jobbna tesszük tehát\, ha megöregszünk. Lehet-e ezt szépen-jól-sikeresen csinálni?\nhttps://kovacskriszta.hu/ \nÉs egy kis mozgás: Szenior Fitnesz Teszt – avagy hogyan is állunk a fittséggel? \n  \n2025.02.04. kedd 18.00-20.00 \n\nMenopauza hatása a női szervezetre és a szexualitásra – Szilágyi Szilárd szexológus\, párkapcsolati tanácsadó előadása. Sokan félünk a változó kortól\, ahogy a változásoktól is. Szakember segít a tévhiteket eloszlatni és megválaszolni a témával kapcsolatos kérdéseket.\nhttp://szilard.coach/ \nIntim torna – a medencefenék izmainak karbantartására \n  \n2025.02.11. kedd 18.00-20.00 \n\nÖngondoskodás pénzügyeken innen és túl – dr. Czafrangó János közgazdász – mentor – coach előadása.\nMennyit készülünk az életpálya gyakran B-oldalaként emlegetett második felére? Észrevesszük\, ha már ott vagyunk? S egyáltalán: mi is az a B-oldal? Előadónk mesél élettapasztalatairól és „B” oldal programjáról\, melyet azért hozott létre\, hogy megpiszkálja azokat a gondolkodási sémákat\, amelyek meggátolják a felismerést\, hogy már megérkeztünk ide. Emellett felszabadítsa a gondolkodásnak azt a területét\, amelyben lehetőségként tudunk tekinteni az életpályának ezen részére. www.czaficonsulting.hu \nNyak- és válltorna Kovács Krisztával \n  \n2025.02.18. kedd 18.00-20.00 \n\nNagyanyáink öröksége: lúdtalp\, bütyök\, kalapácsujj és egyéb nyavalyák. Megelőzhető-e? Mit tehetünk elkerülésünk\, késletetetések érdekében? Mik  azok a távolhatások? Számítógépes talpvizsgálat\, tanácsadás és talpbetét készítés. Talptorna Kovács Krisztával\nkovacskriszta.hu/pod \n  \n2025.02.25. kedd 18.00-20.00 \n\nSzóval szőtt hidak: Kapcsolati krízisek kezelése – Szilágyi Szilárd szexológus\, párkapcsolati tanácsadó előadása és tanácsai\neletutprogram.hu\nFelnőtt balett \n  \n  \n2025.03.04. kedd 18.00-20.00 \n\nSminktanácsadás – Hogyan sminkeljünk 50 felett? Mit lehet és mit nem lehet használni érett bőrre? Anyagok és technikák. Kristóf Ilus Smink és maszkmester oktató lesz a segítségünkre.\nAgytorna Zsombok Ildikóval \n  \n2025.03.11. kedd 18.00-20.00 \n\nTáplálkozás és mozgás 50 felett II.\nelőadó: Ésik Judit dietetikus\, edző (tánc-\, zumba- és rehabilitációs pilates oktató\, a Semmelweis Egyetem Dietetikai és Táplálkozástudományi Tanszék oktatója. A Magyar Dietetikusok Országos Szövetségének megválasztott budapesti küldötte)\nInbody testösszetétel mérés – mely megmutatja hogy milyen arányban vesz részt a testsúlyban az izomszövet és a zsírszövet\, kiindulő képet ad a testről\, és hogy mi változott az elmúlt 2 hónapban.\nZenés mozgás Ésik Judittal \n  \nKiegészítő mozgásprogram: \n2025. 01. 19. 02.02\, 02.16\, 03.02. 03.02. kéthetente vasárnap 10:00 – 11:20 \n\nnordic walking oktatás (Kiss Rózsa nordic walking instruktor) botot nem szükséges magaddal hoznod\, de érkezz sportos réteges öltözetben\, a szükséges dolgokat a klubházban hagyhatod\, vagy övtáskában hátizsákban tudod magaddal hozni\, hogx a karod szabadon mozoghasson. \n  \n2025.01.09. 01.23. 02.06. 02.20. és 03.06. kéthetente csütörtökön 18 órától \n\ngerinctorna (Zsombok Ildikó oktatóval) – kérünk hogy erre mindenképpen jelentkezz be\, mert a terem befogadóképessége véges. Ha a létszám megtelik\, 18:45-től második időpontot nyitunk. Szükséges felszerelés: sportos ruházat\, polifoam\, törölköző. \n  \nA programot az Emberi Erőforrás Minisztériuma NEAO-KP-2024/4-001322 pályázatának támogatásával valósítjuk meg. A részvétel díjtalan de regisztrációhoz kötött. A regisztráció díja 500.-Ft/alkalom\, mely a helyszínen fizetendő. \n \nBetöltés…
URL:https://makka.sport.hu/event/50plusz/
LOCATION:MAKKA Klubház\, 517. utca 25.\, Budapest\, Budapest\, 1173\, Magyarország
ATTACH;FMTTYPE=image/jpeg:https://makka.sport.hu/wp-content/uploads/2024/09/Eletmodvalto-program-502.jpg
ORGANIZER;CN="MAKKA Szabadid%C5%91sport Egyes%C3%BClet":MAILTO:klub@makka.sport.hu
END:VEVENT
BEGIN:VEVENT
DTSTART;TZID=Europe/Paris:20250307T100000
DTEND;TZID=Europe/Paris:20250307T120000
DTSTAMP:20260422T151228
CREATED:20250224T120525Z
LAST-MODIFIED:20250224T121115Z
UID:1924-1741341600-1741348800@makka.sport.hu
SUMMARY:Séta a sírkertben
DESCRIPTION:A Fiumei úti sírkert 1849-es megnyitása óta a magyar történelem egyik legkiemelkedőbb jelentőségű emlékhelye. Sétánk során megismerkedünk a temető történetével\, valamint az itt nyugvó személyiségek életútján keresztül a 19-20. századi magyar történelemmel is. Többek között megtekintjük a Batthyány-\, Deák-\, Kossuth-mauzóleumot\, és érintjük az 1956-os parcellát is. \nRészvételi díj: egyesületi tagoknak 1000.-Ft\, külsősöknek 1500.- Ft \nTalálkozunk a Fiumei út 16-18. Főbejáratnál 9:45-kor \nLoading…
URL:https://makka.sport.hu/event/seta-a-sirkertben/
LOCATION:Budapest
CATEGORIES:Kezdőknek,Kirándulás,Outdoor
ATTACH;FMTTYPE=image/jpeg:https://makka.sport.hu/wp-content/uploads/2025/02/sirkert.jpg
ORGANIZER;CN="MAKKA Szabadid%C5%91sport Egyes%C3%BClet":MAILTO:klub@makka.sport.hu
END:VEVENT
BEGIN:VEVENT
DTSTART;TZID=Europe/Paris:20250318T140000
DTEND;TZID=Europe/Paris:20250429T150000
DTSTAMP:20260422T151228
CREATED:20241016T121150Z
LAST-MODIFIED:20250313T055844Z
UID:1842-1742306400-1745938800@makka.sport.hu
SUMMARY:Esés prevenció\, egyensúly tréning
DESCRIPTION:Közismert tény\, hogy az idősek könnyen megbotlanak\, elesnek. Egy-egy ilyen botlásnak nagyon komoly\, kiszámíthatatlan (olykor halálos) következményei is lehetnek. A legjobb amit tehetünk az esések megelőzése. Ehhez állítottam össze 6 hetes egyensúly tréning – esésprevenció kurzusomat. \n6 hetes kurzusunkat azoknak szervezzük\, \n\nakik eddig nem sportoltak\,\nérzik azt hogy a hétköznapok feladatainak elvégzése nagyobb energiát igényel\nmozgásuk bizonytalanabb\ntöbbször megbotlanak\, esetleg el is estek az elmúlt fél évben\nszeretnék megőrizni minél tovább önellátó életüket\,\njelenleg életminőségüket megőrizni\, javítani szeretnék\n\nIdőpont: 2025. március 18- április 29. minden kedden 14 órakor. Egy alkalom időtartalma kb 45-60 perc\nHelyszín: 1173 Budapest 517.u.25. (földszint\, 1 lépcső van a bejárat előtt) Az épület előtt ingyenes parkolási lehetőséggel.\nSzükséges felszerelés: kényelmes póló és nadrág\, zokni.\nRészvételi díj: 26 000.-Ft\, mely az alábbiakat tartalmazza: \n\nkiinduló és befejező egyensúlyi állapot felmérése\n7 alkalom egyensúlytréning\n6 heti edzésanyag videós eléréssel\n50% kedvezmény online szenior torna videóimra a kurzus ideje alatt\n50% kedvezmény 17. kerületi nordic walking oktatásokon és edzéseken való részvétel a kurzus ideje alatt\n50% kedvezmény szenior torna foglalkozásaimra a kurzus ideje alatt\n\nEzen a kurzuson először felmérjük a kiinduló állapotot\, majd hétről hétre egyre nehezedő feladatokat gyakorlunk az esések megakadályozása és az egyensúlyérzék javítása érdekében. Személyesen heti 1 alkalommal találkozunk\, az óra anyagát videóra vesszük\, s a hét folyamán a résztvevők otthonukban gyakorolhatják ezeket. Természetesen részt vehetnek többi órámon is\, kedvezménnyel. 6 hét elteltével ismét felmérést végzünk\, hogy lássuk a változás mértékét. \nMi is az egyensúly?\nAz egyensúly a test képessége arra\, hogy a súlypontunkat az alátámasztási felület felett tartva a testünk megőrizze stabilitását. Statikus helyzet megtartása és mozgáskivitelezés egyensúly nélkül nem létezik. Mozgás közben a súlypontunk helyzete pillanatról pillanatra változik\, gondolj csak a járásra\, mikor egyik lábunkról a másikra kerül a testsúlyunk. Ezt a súlypont áthelyezést az izmoknak folyamatosan koordinálniuk kell. A balansz megtartásában szerepet játszik \n\na vesztibuláris vagy egyensúlyrendszer is\, mely a belső fülben helyezkedik el\,\nlátás\, mely a térérzékeléssel segíti egyensúlyunk megtartását\,\nvalamint a proprioceptorok\, érzékelők\, melyek az izom és ízületek helyzetéről\, állapotáról adnak tájékoztatást az agynak.\n\nEzen rendszerek együttműködéseként valósul meg a testegyensúly. \nElsődleges célkitűzés az egyensúly gyakorlatok végzése során\, hogy  ne keltsen félelemérzetet és megfelelően biztonságos legyen ahhoz\, hogy elkerüljük a balesetet. Végrehajtásuk elég nehéz legyen ahhoz\, hogy fejlődést eredményezzen. Nagyon fontos a progresszivitás\, hogy a feladatok egymásra épülve egyre nagyobb kihívást jelentsenek a páciensnek. Az egyensúly gyakorlatok rendszeres végzésével nagyobb eséllyel tudjuk a kibillenést megakadályozni\, illetve kibillenés esetén gyorsabban tudjuk az egyensúlyunkat visszaszerezni. Ezzel tudjuk megakadályozni az elesést\, és az azt követő\, sok esetben súlyos sérülések kialakulását. Ehhez azonban rendszeres ingert kell adni az egyensúly-rendszernek és az izmoknak is. \nFontos feladatunk időskorban\, hogy lassítsuk az izomzatunk csökkenését\, az izomerő vesztését – megfelelő táplálkozással\, testedzéssel\, mozgással\, aktivitással. Mindig a meglévő állapotot kell javítani\, a jelenlegi aktivitási szintünket emelni egy kicsivel. Aki most még teljesen passzív életmódot folytat\, akkor számára a napi rövid séta\, kerti munka is változást hoz az aktivitásában. Azonban fontos hogy idővel a mindennapjaink része legyen idősebb korunkban is a célirányos izomerő növelés\, melyet rendszeres tornával tudunk fokozni. \nAz erőcsökkenés mértéke a fekvés\, az inaktivitás következtében egy hét alatt elérheti  az 5-20%-ot is\, különösen az antigravitációs izmokban lehet ez jelentős. (Dénes\, 1996) \nA lakosság 2/3-a (67%) nem sportol még napi 10 percet sem. A legsportosabbak\, akik a hét minden napján végeznek testmozgást\, a felnőtt népesség mindössze 4\,5%-át teszik ki. (Statisztikai Tükör\, 2015/29\, ELEF 2014.) \nMegfelelő tápanyag-bevitel az izomtömeg fenntartásához\nIzomzat felépítéséhez és szinten tartásához megfelelő tápanyag-bevitel is szükséges. Az izom fehérjéből épül fel. A szervezet a fehérje-bevitelre nagyon kényes\, rendszeres\, jó minőségű fehérje bevitelt igényel. Hatvan év felett amúgy is romlik a fehérje hasznosulása a szervezetben\, ezért is érdemes odafigyelni a megfelelő bevitelre. Jó minőségű fehérje forrásaink többek között a tejsavó\, tehéntej\, tojás\, hal\, marhahús\, csirkehús\, szója\, rizs\, búza\, bab\, lencse\, csicseriborsó. A szervezet képes raktározni a zsír\, a szénhidrátot\, de nincsenek fehérje-raktárai. Így ha nem kapja meg a működéséhez szükséges fehérje-mennyiséget\, bizony akkor megszerzi azt. Honnan juthat hozzá bevitel hiányában? Zsírmentes szövetek (pl. izomszövet) bontásából. Ugye ezt Te sem akarod? \nKomplex program – minden esésprevenciós mozgásforma egy helyen\nMindennapjaimban a fent felsorolt edzésformákat rendszeresen végzem szeniorjainkkal. Az eredmény nem marad el: a végzett teszteken mindannyian kimagaslóan jó eredménnyel szerepelnek. Köszönhetően a programnak\, s az (esetleg már 3-4 éve) kitartóan végzett edzésmunkának. \nErősítő edzés szenioroknak\nHeti két alkalommal vesznek részt szeniorjaink erősítő edzéseken\, melyeket tudásszint szerint\, 2 csoportban szervezünk. Figyelmet fordítunk arra is\, hogy erősíteni csak az optimális hosszúságú izmot lehet. ennek érdekében rendszeresen végzünk stretching gyakorlatokat is. Az óratípus népszerű\, hiszen érezzük annak mindennapjainkra gyakorolt funkcionális hatását. \nJárásgyakorlatok az elesések megelőzése érdekében\nJárásgyakorlatok alatt a lendületes járás értendő\, a kirakatnézegető tempó nem ide tartozik! A járásgyakorlatok nordic walking bottal is ajánlottak\, hiszen akkor a mozgásban a teljes test részt vesz. A nordic walking botok támasztó szerepüknél fogva amúgy is ajánlottak azoknak akik járási bizonytalanságról panaszkodnak\, csontritkulásban szenvednek vagy más okból tartanak az eleséstől. A járásgyakorlatok erősítik a gyengülésre hajlamos alsó végtagokat\, javítják az aerob állóképességet. Technika\, irány- és iramváltoztatások ajánlottak. \nA gyakorlatok fokozódó nehézségűek\, egymásra épülnek. Az eszközök biztonságosak\, egy esetleges egyensúlyból való kibillenés esetén gyors korrekcióra van lehetőség.
URL:https://makka.sport.hu/event/eses-prevencio-egyensuly-trening-2/
LOCATION:MAKKA Klubház\, 517. utca 25.\, Budapest\, Budapest\, 1173\, Magyarország
CATEGORIES:Beltéri rendezvény,Kezdőknek
ATTACH;FMTTYPE=image/jpeg:https://makka.sport.hu/wp-content/uploads/2024/10/eses-prev-2-2.jpg
ORGANIZER;CN="Kov%C3%A1cs Kriszta":MAILTO:mail@kovacskriszta.hu
END:VEVENT
BEGIN:VEVENT
DTSTART;VALUE=DATE:20250328
DTEND;VALUE=DATE:20250329
DTSTAMP:20260422T151228
CREATED:20250309T133247Z
LAST-MODIFIED:20250309T133247Z
UID:2014-1743120000-1743206399@makka.sport.hu
SUMMARY:Medvehagyma és Zirc
DESCRIPTION:Időpont: 2025. Március 28. péntek 7:00 \nIndulás a Klubháztól \nKözlekedés különjárati autóbusszal\nRészvételi díj: 14000\, külsősöknek 16000 Ft \nMely tartalmazza az utazás\, belépőjegyek\, ebéd\, szervezés költségét nyugdíjas belépőjegyekkel számolva \nTervezett program: \n\nBazilika megtekintése vezetéssel\nKirályterem\, Vörös torony\, Rendtörténeti kiállitás egyéni megtekintése\nArborétum\nEbéd: zöldborsó leves\, rántott szelet petrezselymes burgonyával\nMedvehagyma gyűjtés\n\nTervezett visszaérkezés a klubházhoz a kora esti órákban \nLoading…  \n 
URL:https://makka.sport.hu/event/medvehagyma-es-zirc/
LOCATION:Budapest
CATEGORIES:Kezdőknek,Kirándulás
ATTACH;FMTTYPE=image/jpeg:https://makka.sport.hu/wp-content/uploads/2025/03/Medvehagyma-es-Zirc.jpg
ORGANIZER;CN="MAKKA Szabadid%C5%91sport Egyes%C3%BClet":MAILTO:klub@makka.sport.hu
END:VEVENT
END:VCALENDAR