BEGIN:VCALENDAR
VERSION:2.0
PRODID:-//MAKKA Szabadidősport Egyesület - ECPv6.15.20//NONSGML v1.0//EN
CALSCALE:GREGORIAN
METHOD:PUBLISH
X-WR-CALNAME:MAKKA Szabadidősport Egyesület
X-ORIGINAL-URL:https://makka.sport.hu
X-WR-CALDESC:Események MAKKA Szabadidősport Egyesület
REFRESH-INTERVAL;VALUE=DURATION:PT1H
X-Robots-Tag:noindex
X-PUBLISHED-TTL:PT1H
BEGIN:VTIMEZONE
TZID:Europe/Paris
BEGIN:DAYLIGHT
TZOFFSETFROM:+0100
TZOFFSETTO:+0200
TZNAME:CEST
DTSTART:20240331T010000
END:DAYLIGHT
BEGIN:STANDARD
TZOFFSETFROM:+0200
TZOFFSETTO:+0100
TZNAME:CET
DTSTART:20241027T010000
END:STANDARD
BEGIN:DAYLIGHT
TZOFFSETFROM:+0100
TZOFFSETTO:+0200
TZNAME:CEST
DTSTART:20250330T010000
END:DAYLIGHT
BEGIN:STANDARD
TZOFFSETFROM:+0200
TZOFFSETTO:+0100
TZNAME:CET
DTSTART:20251026T010000
END:STANDARD
BEGIN:DAYLIGHT
TZOFFSETFROM:+0100
TZOFFSETTO:+0200
TZNAME:CEST
DTSTART:20260329T010000
END:DAYLIGHT
BEGIN:STANDARD
TZOFFSETFROM:+0200
TZOFFSETTO:+0100
TZNAME:CET
DTSTART:20261025T010000
END:STANDARD
END:VTIMEZONE
BEGIN:VEVENT
DTSTART;TZID=Europe/Paris:20250401T100000
DTEND;TZID=Europe/Paris:20251211T113000
DTSTAMP:20260422T051938
CREATED:20240222T191935Z
LAST-MODIFIED:20250519T094638Z
UID:1727-1743501600-1765452600@makka.sport.hu
SUMMARY:Nordic walking
DESCRIPTION:2025. április 1-től december 11-ig INGYENES nordic walking oktatás és edzés Madárdombon Rákosmente Önkormányzatának támogatásával. Várunk Téged is! Botot nem kell hoznod\, azt a résztvevőknek biztosítunk. \nA körülbelül 75 perces foglalkozások 10 órakor kezdődnek\, a nyári szünet idején (június 15-augusztus 31-ig) pedig 8 órakor kezdünk. \nÖltözz rétegesen\, ne túl melegen\, ne hozz magaddal sok felszerelést\, elég egy kicsi övtáskában egy pici víz.  Kényelmes zárt sportcipő legyen a lábadon\, aminek a talpa bordázott. A felesleges felszerelést\, szatyrot\, táskát\, pullóvert a klubházban hagyhatod\, ahol mosdó használati lehetőség is van. \nA foglalkozásokat 2 oktató vezeti\, bármilyen problémával fordulj hozzájuk! Az aktuális egészségi állapotodról kérlek tájékoztasd az oktatókat.
URL:https://makka.sport.hu/event/nordic-walking/
LOCATION:Madárdomb
CATEGORIES:Outdoor
ATTACH;FMTTYPE=image/jpeg:https://makka.sport.hu/wp-content/uploads/2024/02/Gyere-velunk-nordic-walkingozni.jpg
ORGANIZER;CN="MAKKA Szabadid%C5%91sport Egyes%C3%BClet":MAILTO:klub@makka.sport.hu
END:VEVENT
BEGIN:VEVENT
DTSTART;VALUE=DATE:20250912
DTEND;VALUE=DATE:20250913
DTSTAMP:20260422T051938
CREATED:20250823T070139Z
LAST-MODIFIED:20250823T070159Z
UID:2102-1757635200-1757721599@makka.sport.hu
SUMMARY:Szolnok
DESCRIPTION:Találkozó Rákos állomáson\,  utazás vonattal (indul 7:26-kor\,érkezik Szolnokra 8:53) \nProgram: \n\nséta a Zagyva torkolathoz\,\nRózsakert megtekintése a Verseghy parkban\,\nvárosnézés – cukrászda szünettel\,\nséta a Tiszaligeten.\n\nTervezett hazaérkezés 17 óra körül. \nRészvételi díj egyesületi tagoknak 1500.-Ft\, külsősöknek 3000.- Ft mely nem tartalmazza az utazás\, étkezés költségét. \nLoading…
URL:https://makka.sport.hu/event/szolnok/
LOCATION:Szolnok\, Hungary
CATEGORIES:Kirándulás
ATTACH;FMTTYPE=image/jpeg:https://makka.sport.hu/wp-content/uploads/2025/08/szolnok.jpg
ORGANIZER;CN="MAKKA Szabadid%C5%91sport Egyes%C3%BClet":MAILTO:klub@makka.sport.hu
END:VEVENT
BEGIN:VEVENT
DTSTART;TZID=Europe/Paris:20250920T080000
DTEND;TZID=Europe/Paris:20250920T170000
DTSTAMP:20260422T051938
CREATED:20250920T070033Z
LAST-MODIFIED:20250920T070033Z
UID:2139-1758355200-1758387600@makka.sport.hu
SUMMARY:kirándulás
DESCRIPTION:asd
URL:https://makka.sport.hu/event/kirandulas/
LOCATION:Budapest
END:VEVENT
END:VCALENDAR