BEGIN:VCALENDAR
VERSION:2.0
PRODID:-//MAKKA Szabadidősport Egyesület - ECPv6.15.20//NONSGML v1.0//EN
CALSCALE:GREGORIAN
METHOD:PUBLISH
X-ORIGINAL-URL:https://makka.sport.hu
X-WR-CALDESC:Események MAKKA Szabadidősport Egyesület
REFRESH-INTERVAL;VALUE=DURATION:PT1H
X-Robots-Tag:noindex
X-PUBLISHED-TTL:PT1H
BEGIN:VTIMEZONE
TZID:Europe/Paris
BEGIN:DAYLIGHT
TZOFFSETFROM:+0100
TZOFFSETTO:+0200
TZNAME:CEST
DTSTART:20240331T010000
END:DAYLIGHT
BEGIN:STANDARD
TZOFFSETFROM:+0200
TZOFFSETTO:+0100
TZNAME:CET
DTSTART:20241027T010000
END:STANDARD
BEGIN:DAYLIGHT
TZOFFSETFROM:+0100
TZOFFSETTO:+0200
TZNAME:CEST
DTSTART:20250330T010000
END:DAYLIGHT
BEGIN:STANDARD
TZOFFSETFROM:+0200
TZOFFSETTO:+0100
TZNAME:CET
DTSTART:20251026T010000
END:STANDARD
BEGIN:DAYLIGHT
TZOFFSETFROM:+0100
TZOFFSETTO:+0200
TZNAME:CEST
DTSTART:20260329T010000
END:DAYLIGHT
BEGIN:STANDARD
TZOFFSETFROM:+0200
TZOFFSETTO:+0100
TZNAME:CET
DTSTART:20261025T010000
END:STANDARD
END:VTIMEZONE
BEGIN:VEVENT
DTSTART;TZID=Europe/Paris:20250401T100000
DTEND;TZID=Europe/Paris:20251211T113000
DTSTAMP:20260422T000722
CREATED:20240222T191935Z
LAST-MODIFIED:20250519T094638Z
UID:1727-1743501600-1765452600@makka.sport.hu
SUMMARY:Nordic walking
DESCRIPTION:2025. április 1-től december 11-ig INGYENES nordic walking oktatás és edzés Madárdombon Rákosmente Önkormányzatának támogatásával. Várunk Téged is! Botot nem kell hoznod\, azt a résztvevőknek biztosítunk. \nA körülbelül 75 perces foglalkozások 10 órakor kezdődnek\, a nyári szünet idején (június 15-augusztus 31-ig) pedig 8 órakor kezdünk. \nÖltözz rétegesen\, ne túl melegen\, ne hozz magaddal sok felszerelést\, elég egy kicsi övtáskában egy pici víz.  Kényelmes zárt sportcipő legyen a lábadon\, aminek a talpa bordázott. A felesleges felszerelést\, szatyrot\, táskát\, pullóvert a klubházban hagyhatod\, ahol mosdó használati lehetőség is van. \nA foglalkozásokat 2 oktató vezeti\, bármilyen problémával fordulj hozzájuk! Az aktuális egészségi állapotodról kérlek tájékoztasd az oktatókat.
URL:https://makka.sport.hu/event/nordic-walking/
LOCATION:Madárdomb
CATEGORIES:Outdoor
ATTACH;FMTTYPE=image/jpeg:https://makka.sport.hu/wp-content/uploads/2024/02/Gyere-velunk-nordic-walkingozni.jpg
ORGANIZER;CN="MAKKA Szabadid%C5%91sport Egyes%C3%BClet":MAILTO:klub@makka.sport.hu
END:VEVENT
BEGIN:VEVENT
DTSTART;VALUE=DATE:20251221
DTEND;VALUE=DATE:20251222
DTSTAMP:20260422T000722
CREATED:20251110T133839Z
LAST-MODIFIED:20251201T200325Z
UID:2159-1766275200-1766361599@makka.sport.hu
SUMMARY:Csorba-tó\, Jégkatedrális
DESCRIPTION:Szokatlan módon most az Avandabusz partnereként van lehetőségünk kedvezményes iránduláson részt venni: \nIdőpont: 2025. december 21.\nIndulás: a Planetáriumtól\, érkezős ugyanide vissza (esetleg megfelelő létszám esetén kérhetem a Klubháztól indulást\, de ez nem biztos) – jelen állás szerint indulás a Klubháztól lesz. \nProgram az Avanda ismertetésében: \nSzeretettel váruk\, December 21.-én vasárnap egy kis kirándulásra\nIdén a Jégkatedrális szeretnénk megmutatni Nektek\, és utána egy kis séta a Csorba-tónál.\nA jégkatedrálist felvonóval közelítjük meg\, majd miután kellően átfagyott a testünk\, viszont a lelkünk átmelegedett\, keresünk egy hüttét 🙂\nA jégkatedrális körül is minden évben van adventi vásár\, szóval a hangulat adott lesz 🙂\nUtána átbuszozunk a Csoba-tóhoz (nem mertek ekkora létszámot vállalni az elektricskával) és a Csorba-tó körül tudunk sétálni\, vásárolgatni\, kicsit kifújni az éves fáradt levegőt\, és teliszippantani magunkat a Tátra csodás levegőjéből.\nKérlek\, majd részvételi szándékodat jelezd legkésőbb December 01.-ig\, mert utána kezdjük a buszok beosztását.\nSzóval akkor kezdődjék az évvégi utazás.\n\nEgyéb felmerülő költségek: felvonó 18 EUR\, esetleges elektricska 4\,5 EUR\, étkezésről mindenki maga gondoskodjon.\nLoading…
URL:https://makka.sport.hu/event/csorba-to-jegkatedralis/
LOCATION:Budapest
ATTACH;FMTTYPE=image/jpeg:https://makka.sport.hu/wp-content/uploads/2025/11/csorba-to.jpg
END:VEVENT
END:VCALENDAR